BEGIN:VCALENDAR
VERSION:2.0
PRODID:-//Minch Life - ECPv6.8.3//NONSGML v1.0//EN
CALSCALE:GREGORIAN
METHOD:PUBLISH
X-WR-CALNAME:Minch Life
X-ORIGINAL-URL:https://minchlife.com
X-WR-CALDESC:Events for Minch Life
REFRESH-INTERVAL;VALUE=DURATION:PT1H
X-Robots-Tag:noindex
X-PUBLISHED-TTL:PT1H
BEGIN:VTIMEZONE
TZID:UTC
BEGIN:STANDARD
TZOFFSETFROM:+0000
TZOFFSETTO:+0000
TZNAME:UTC
DTSTART:20260101T000000
END:STANDARD
END:VTIMEZONE
BEGIN:VEVENT
DTSTART;TZID=UTC:20260420T190000
DTEND;TZID=UTC:20260420T213000
DTSTAMP:20260420T134525
CREATED:20260305T100351Z
LAST-MODIFIED:20260305T100352Z
UID:30765-1776711600-1776720600@minchlife.com
SUMMARY:Annual Parish Meeting
DESCRIPTION:
URL:https://minchlife.com/event/annual-parish-meeting-3
LOCATION:Minchinhampton Market House\, Market Square\, Minchinhampton\, GL6 9BW\, United Kingdom
ATTACH;FMTTYPE=image/jpeg:https://minchlife.com/wp-content/uploads/2026/03/Annual-Parish-Meeting-26.jpg
END:VEVENT
BEGIN:VEVENT
DTSTART;TZID=UTC:20260420T193000
DTEND;TZID=UTC:20260420T220000
DTSTAMP:20260420T134525
CREATED:20260309T164958Z
LAST-MODIFIED:20260309T164958Z
UID:30805-1776713400-1776722400@minchlife.com
SUMMARY:Minchinhampton Gardening Club.  "Climbing Plants" - speaker Andrew Jeanes
DESCRIPTION:Minchinhampton Gardening Club: This month’s meeting in the School Hall starts at 7.30pm on Monday April 20th. Our guest speaker is Andrew Jeanes talking to us about climbing plants. Members and guests are always very welcome.                                                                 
URL:https://minchlife.com/event/minchinhampton-gardening-club-climbing-plants-speaker-andrew-jeanes
LOCATION:Minchinhampton School (C of E Primary Academy)\, School Road\, Minchinhampton\, GL6 9BP\, United Kingdom
END:VEVENT
END:VCALENDAR