BEGIN:VCALENDAR
VERSION:2.0
PRODID:-//Minch Life - ECPv6.8.3//NONSGML v1.0//EN
CALSCALE:GREGORIAN
METHOD:PUBLISH
X-WR-CALNAME:Minch Life
X-ORIGINAL-URL:https://minchlife.com
X-WR-CALDESC:Events for Minch Life
REFRESH-INTERVAL;VALUE=DURATION:PT1H
X-Robots-Tag:noindex
X-PUBLISHED-TTL:PT1H
BEGIN:VTIMEZONE
TZID:Europe/London
BEGIN:DAYLIGHT
TZOFFSETFROM:+0000
TZOFFSETTO:+0100
TZNAME:BST
DTSTART:20200329T010000
END:DAYLIGHT
BEGIN:STANDARD
TZOFFSETFROM:+0100
TZOFFSETTO:+0000
TZNAME:GMT
DTSTART:20201025T010000
END:STANDARD
END:VTIMEZONE
BEGIN:VEVENT
DTSTART;TZID=Europe/London:20200108T140000
DTEND;TZID=Europe/London:20200108T160000
DTSTAMP:20260423T175742
CREATED:20200506T225550Z
LAST-MODIFIED:20200506T225550Z
UID:9811-1578492000-1578499200@minchlife.com
SUMMARY:Minchinhampton Women's Institute
DESCRIPTION:Meeting (a week later than usual).\nVisitors/new members are always welcome to meetings held on the first Wednesday of the month.
URL:https://minchlife.com/event/minchinhampton-womens-institute-2
END:VEVENT
BEGIN:VEVENT
DTSTART;TZID=Europe/London:20200102T200000
DTEND;TZID=Europe/London:20200102T223000
DTSTAMP:20260423T175742
CREATED:20200506T225559Z
LAST-MODIFIED:20200506T225559Z
UID:9827-1577995200-1578004200@minchlife.com
SUMMARY:Minchinhampton Folk Club
DESCRIPTION:For details of evening please see\nhttps://en-gb.facebook.com/MinchFolkClub/ \n  \n 
URL:https://minchlife.com/event/minchinhampton-folk-club
END:VEVENT
END:VCALENDAR