BEGIN:VCALENDAR
VERSION:2.0
PRODID:-//Minch Life - ECPv6.8.3//NONSGML v1.0//EN
CALSCALE:GREGORIAN
METHOD:PUBLISH
X-ORIGINAL-URL:https://minchlife.com
X-WR-CALDESC:Events for Minch Life
REFRESH-INTERVAL;VALUE=DURATION:PT1H
X-Robots-Tag:noindex
X-PUBLISHED-TTL:PT1H
BEGIN:VTIMEZONE
TZID:UTC
BEGIN:STANDARD
TZOFFSETFROM:+0000
TZOFFSETTO:+0000
TZNAME:UTC
DTSTART:20270101T000000
END:STANDARD
END:VTIMEZONE
BEGIN:VEVENT
DTSTART;TZID=UTC:20270917T190000
DTEND;TZID=UTC:20270917T213000
DTSTAMP:20260425T123343
CREATED:20260420T163857Z
LAST-MODIFIED:20260420T163857Z
UID:31369-1821207600-1821216600@minchlife.com
SUMMARY:Minchinhampton History Group "Gloucestershire and Slavery". Tony Carver.
DESCRIPTION:More details to follow
URL:https://minchlife.com/event/minchinhampton-history-group-gloucestershire-and-slavery-tony-carver
LOCATION:Minchinhampton Market House\, Market Square\, Minchinhampton\, GL6 9BW\, United Kingdom
END:VEVENT
BEGIN:VEVENT
DTSTART;TZID=UTC:20271015T190000
DTEND;TZID=UTC:20271015T213000
DTSTAMP:20260425T123343
CREATED:20260420T164045Z
LAST-MODIFIED:20260420T164046Z
UID:31371-1823626800-1823635800@minchlife.com
SUMMARY:Minchinhampton History Group "Funerary Monuments in Gloucestershire"
DESCRIPTION:More details to follow
URL:https://minchlife.com/event/minchinhampton-history-group-funerary-monuments-in-gloucestershire
LOCATION:Minchinhampton Market House\, Market Square\, Minchinhampton\, GL6 9BW\, United Kingdom
END:VEVENT
BEGIN:VEVENT
DTSTART;TZID=UTC:20271210T190000
DTEND;TZID=UTC:20271210T213000
DTSTAMP:20260425T123343
CREATED:20260420T164232Z
LAST-MODIFIED:20260420T164232Z
UID:31373-1828465200-1828474200@minchlife.com
SUMMARY:Minchinhampton History Group "Christmas Ghosts of Gloucestershire" Kirsty Hartsiosis.
DESCRIPTION:More details to follow
URL:https://minchlife.com/event/minchinhampton-history-group-christmas-ghosts-of-gloucestershire-kirsty-hartsiosis
LOCATION:Minchinhampton Market House\, Market Square\, Minchinhampton\, GL6 9BW\, United Kingdom
END:VEVENT
END:VCALENDAR