BEGIN:VCALENDAR
VERSION:2.0
PRODID:-//Minch Life - ECPv6.8.3//NONSGML v1.0//EN
CALSCALE:GREGORIAN
METHOD:PUBLISH
X-ORIGINAL-URL:https://minchlife.com
X-WR-CALDESC:Events for Minch Life
REFRESH-INTERVAL;VALUE=DURATION:PT1H
X-Robots-Tag:noindex
X-PUBLISHED-TTL:PT1H
BEGIN:VTIMEZONE
TZID:UTC
BEGIN:STANDARD
TZOFFSETFROM:+0000
TZOFFSETTO:+0000
TZNAME:UTC
DTSTART:20250101T000000
END:STANDARD
END:VTIMEZONE
BEGIN:VEVENT
DTSTART;TZID=UTC:20251030T140000
DTEND;TZID=UTC:20251030T160000
DTSTAMP:20260423T132658
CREATED:20250909T094800Z
LAST-MODIFIED:20250909T103859Z
UID:29011-1761832800-1761840000@minchlife.com
SUMMARY:Holiday Craft Session
DESCRIPTION:Suitable for children aged 3+ \nFree event.  Children to be accompanied by an adult.
URL:https://minchlife.com/event/holiday-craft-session-3
LOCATION:Minchinhampton Community Library\, School Road\, Minchinhampton\, GL6 9BP\, United Kingdom
ATTACH;FMTTYPE=image/jpeg:https://minchlife.com/wp-content/uploads/2025/09/Craft-Oct-25-scaled.jpg
END:VEVENT
BEGIN:VEVENT
DTSTART;TZID=UTC:20251030T170000
DTEND;TZID=UTC:20251030T200000
DTSTAMP:20260423T132658
CREATED:20250928T141430Z
LAST-MODIFIED:20250928T141430Z
UID:29206-1761843600-1761854400@minchlife.com
SUMMARY:Kids' Silent Disco at the Long Table
DESCRIPTION:Shhh… it’s a Kids’ Silent Disco! \nA chance for little movers and groovers to shine on the dance floor. Grab a headset\, switch between songs and dance the night away like nobody’s listening (because they’re not). \nExpect good vibes\, glowing lights\, high energy fun and kid-friendly music! \nHeadset tickets:\n🎧 Cover the cost\n🎧 On us – no stress \nGive us a heads-up by booking early – it helps us get the right number of headsets and keeps the disco magic flowing. \nIt’s going to be joyful\, messy\, magical\, and just the right amount of weird. You bring the moves. We’ll bring the music. \nBooking here:  https://thelongtablestroud.com/kids-silent-disco
URL:https://minchlife.com/event/kids-silent-disco-at-the-long-table
LOCATION:The Long Table\, Brimscombe Mill\, Stroud\, GL5 2SA\, United Kingdom
ATTACH;FMTTYPE=image/webp:https://minchlife.com/wp-content/uploads/2025/09/Kids-Silent-Disco.webp
END:VEVENT
BEGIN:VEVENT
DTSTART;TZID=UTC:20251030T193000
DTEND;TZID=UTC:20251030T223000
DTSTAMP:20260423T132658
CREATED:20250916T110249Z
LAST-MODIFIED:20250916T110249Z
UID:29076-1761852600-1761863400@minchlife.com
SUMMARY:Crown Quiz
DESCRIPTION:Test out your general knowledge with a pint and some proper pub grub. Round up your team and join us for a fun evening. Why not make an evening of it and have food with us before the start of the quiz? The quiz is £2 per person (cash only) to join and there is a £50 bar tab to grab for the winning team (6 max per team). 8pm start. All entry money for quiz will be donated to Dogs for Good.
URL:https://minchlife.com/event/crown-quiz-14
LOCATION:The Crown Inn\, High Street Minchinhampton\, GL6 9BN\, United Kingdom
ATTACH;FMTTYPE=image/jpeg:https://minchlife.com/wp-content/uploads/2024/06/Crown-Quiz-July-24.jpg
END:VEVENT
BEGIN:VEVENT
DTSTART;TZID=UTC:20251031T100000
DTEND;TZID=UTC:20251031T123000
DTSTAMP:20260423T132658
CREATED:20250906T100740Z
LAST-MODIFIED:20250906T101111Z
UID:28968-1761904800-1761913800@minchlife.com
SUMMARY:Free Digital Support: Personalised 1-2-1 Appointments with Digi-champion
DESCRIPTION:Call in the library\, or telephone 01453 885497 during library opening hours\, to book an appointment.
URL:https://minchlife.com/event/free-digital-support-personalised-1-2-1-appointments-with-digi-champion-13
LOCATION:Minchinhampton Community Library\, School Road\, Minchinhampton\, GL6 9BP\, United Kingdom
ATTACH;FMTTYPE=image/jpeg:https://minchlife.com/wp-content/uploads/2025/09/Digichampion-General-poster.jpg
END:VEVENT
BEGIN:VEVENT
DTSTART;TZID=UTC:20251031T170000
DTEND;TZID=UTC:20251031T210000
DTSTAMP:20260423T132658
CREATED:20251030T170012Z
LAST-MODIFIED:20251030T170107Z
UID:29439-1761930000-1761944400@minchlife.com
SUMMARY:Pizzas in the Undercroft
DESCRIPTION:We’ll be back under the market house for Halloween this Friday! We loved seeing everyone’s costumes last year and seeing Minch so alive.\n\n\nWe’ll either be in our usual spot\, or facing up towards Butt Street due to the scaffolding\, we haven’t quite decided yet.\n\n\nA free pizza goes to the best costume(s) we see\, so if you’re out trick or treating and don’t fancy going home to cook afterwards\, or you just want to cosy up with a spooky movie and a takeaway\, we’d love to see you on Friday.
URL:https://minchlife.com/event/pizzas-in-the-undercroft
LOCATION:The Undercroft\, Minchinhampton Market House\, Market Square\, Minchinhampton\, GL6 9BW\, United Kingdom
ATTACH;FMTTYPE=image/png:https://minchlife.com/wp-content/uploads/2024/04/Midnight-Pizza-Logo-Black.png
END:VEVENT
BEGIN:VEVENT
DTSTART;TZID=UTC:20251031T183000
DTEND;TZID=UTC:20251031T210000
DTSTAMP:20260423T132658
CREATED:20250928T104937Z
LAST-MODIFIED:20250928T104937Z
UID:29168-1761935400-1761944400@minchlife.com
SUMMARY:Box Bar
DESCRIPTION:Box Bar continues to lubricate the village on the first and third Friday of every month.  It is well supported and has become a very enjoyable social hub for the village. \nIt serves wine\, prosecco\, gin and tonic\, organic cider\, organic lager and beers from Stroud brewery\, plus a selection of soft drinks.  The draught organic pale ale on sale is now gluten free. \nThe bar has a card reader\, so you don’t need to bring cash.  The profits from the bar help to fund the Village Hall.
URL:https://minchlife.com/event/box-bar-60
LOCATION:Box Village Hall\, Box\, Stroud\, GL6 9HE\, United Kingdom
END:VEVENT
BEGIN:VEVENT
DTSTART;TZID=UTC:20251031T191500
DTEND;TZID=UTC:20251031T220000
DTSTAMP:20260423T132658
CREATED:20250928T135822Z
LAST-MODIFIED:20251030T145946Z
UID:29198-1761938100-1761948000@minchlife.com
SUMMARY: Wendy’s Halloween Cash Bingo
DESCRIPTION:Book Sales 7:15pm\, Eyes Down 7:30pm  Members and Guests are welcome (Guests must be signed in) \n\nDress up for the occasion with the Best Halloween Costume winning £20 on their Members Gold Card\n\n\nSpread the word\, share this post and let’s get a big crowd in and generate big cash prizes\n\n\nCome and join us for a spooktacular evening\n\n\nAll welcome
URL:https://minchlife.com/event/wendys-halloween-cash-bingo
LOCATION:Cotswold Club\, High Street\, Minchinhampton\, GL6 9BN\, United Kingdom
ATTACH;FMTTYPE=image/jpeg:https://minchlife.com/wp-content/uploads/2025/09/Halloween-Bingo.jpg
END:VEVENT
BEGIN:VEVENT
DTSTART;TZID=UTC:20251031T193000
DTEND;TZID=UTC:20251031T213000
DTSTAMP:20260423T132658
CREATED:20250325T124151Z
LAST-MODIFIED:20250830T104308Z
UID:26870-1761939000-1761946200@minchlife.com
SUMMARY:Ghost Gloucestershire Stories:  Minchinhampton Local History Group
DESCRIPTION:Talk by Kirsty Hartsiotis \nTickets £5 (cash please) from the Market Stores. (£4 for members of the Minchinhampton Local History Group) or on the door. Licensed bar. \nPresented by Minchinhamptonlocalhistorygroup.org.uk
URL:https://minchlife.com/event/ghost-gloucestershire-stories-minchinhampton-local-history-group
LOCATION:Minchinhampton Market House\, Market Square\, Minchinhampton\, GL6 9BW\, United Kingdom
ATTACH;FMTTYPE=image/jpeg:https://minchlife.com/wp-content/uploads/2025/03/Ghost-Tales-History-Group.jpg
END:VEVENT
BEGIN:VEVENT
DTSTART;TZID=UTC:20251101T083000
DTEND;TZID=UTC:20251101T150000
DTSTAMP:20260423T132658
CREATED:20250702T085032Z
LAST-MODIFIED:20250702T085403Z
UID:28361-1761985800-1762009200@minchlife.com
SUMMARY:Autumn Fair at Beaudesert Park School
DESCRIPTION:Visit the school to start your Christmas shopping with stalls including Oarsum\, 100 Acres\, Hoboko and Manuka Direct. Food and coffees are on offer in the Courtyard\, including Jesse Smith and Coffee & Bee. \nThe Country House Department\, Beaufort Polo Club and Concierge Medical are sponsoring the event. \nEntry is £3.50 for adults (children U16 go free)\, all proceeds will go to Bristol Children’s Hospital charity\, The Grand Appeal. \n  \n  \n 
URL:https://minchlife.com/event/autumn-fair-at-beaudesert-park-school-4
LOCATION:Beaudesert Park School\, Minchinhampton\, GL6 9AF\, United Kingdom
ATTACH;FMTTYPE=image/jpeg:https://minchlife.com/wp-content/uploads/2024/03/Beaudesert.jpg
END:VEVENT
BEGIN:VEVENT
DTSTART;TZID=UTC:20251101T100000
DTEND;TZID=UTC:20251101T120000
DTSTAMP:20260423T132658
CREATED:20250928T132442Z
LAST-MODIFIED:20251018T161246Z
UID:29181-1761991200-1761998400@minchlife.com
SUMMARY:Coffee Morning
DESCRIPTION:All are welcome. If you require a lift please call 01453 889004
URL:https://minchlife.com/event/coffee-morning-33
LOCATION:Porch Room\, Holy Trinity Church\, Holy Trinity Church\, Minchinhampton\, GL6 9BP
ATTACH;FMTTYPE=image/png:https://minchlife.com/wp-content/uploads/2025/09/IMG_0036.png
END:VEVENT
BEGIN:VEVENT
DTSTART;TZID=UTC:20251101T100000
DTEND;TZID=UTC:20251101T120000
DTSTAMP:20260423T132658
CREATED:20251030T154027Z
LAST-MODIFIED:20251030T154027Z
UID:29409-1761991200-1761998400@minchlife.com
SUMMARY:Repair Cafe
DESCRIPTION:Repair and reuse one of your broken items. Learn how you may be able to repair an item yourself. Repairs are FREE! For further information contact canminch@gmail.com
URL:https://minchlife.com/event/repair-cafe-8
LOCATION:Minchinhampton Community Library\, School Road\, Minchinhampton\, GL6 9BP\, United Kingdom
ATTACH;FMTTYPE=image/jpeg:https://minchlife.com/wp-content/uploads/2025/03/Repair-Cafe-General-Poster-scaled.jpg
END:VEVENT
BEGIN:VEVENT
DTSTART;TZID=UTC:20251101T163000
DTEND;TZID=UTC:20251101T173000
DTSTAMP:20260423T132658
CREATED:20250413T091340Z
LAST-MODIFIED:20251024T172619Z
UID:27472-1762014600-1762018200@minchlife.com
SUMMARY:Teatime Concert:  Postcards from the OXUS String Quartet
DESCRIPTION:Tea and cakes served in the porch room from 4.00pm.  Admission free with retiring collection.
URL:https://minchlife.com/event/teatime-concert-postcards-from-the-oxus-string-quartet
LOCATION:Holy Trinity Church\, Minchinhampton\, Holy Trinity Church\, Minchinhampton\, GL6 9BW
ATTACH;FMTTYPE=image/jpeg:https://minchlife.com/wp-content/uploads/2025/04/Oxus.jpg
END:VEVENT
BEGIN:VEVENT
DTSTART;TZID=UTC:20251102T084500
DTEND;TZID=UTC:20251102T100000
DTSTAMP:20260423T132658
CREATED:20250928T132708Z
LAST-MODIFIED:20251018T161425Z
UID:29184-1762073100-1762077600@minchlife.com
SUMMARY:Parish Breakfast at Holy Trinity Church\, Minchinhampton
DESCRIPTION:Join us for breakfast with a selection of cereals\, croissants\, bacon roll\, juice\, tea and coffee.
URL:https://minchlife.com/event/parish-breakfast-12
LOCATION:Porch Room\, Holy Trinity Church\, Holy Trinity Church\, Minchinhampton\, GL6 9BP
ATTACH;FMTTYPE=image/png:https://minchlife.com/wp-content/uploads/2025/09/IMG_0037.png
END:VEVENT
BEGIN:VEVENT
DTSTART;TZID=UTC:20251102T194500
DTEND;TZID=UTC:20251102T220000
DTSTAMP:20260423T132658
CREATED:20250916T112439Z
LAST-MODIFIED:20250916T112439Z
UID:29098-1762112700-1762120800@minchlife.com
SUMMARY:Arkies Quiz
DESCRIPTION:Get ready for an unforgettable evening of fun\, laughter\, and friendly competition at Arkie’s quiz nights! \nJoin us for challenging questions\, fantastic prizes\, and a lively atmosphere you won’t want to miss. Gather your friends\, form a team\, and put your knowledge to the test! Mark your calendars and make it a night to remember! \n£4.00 per team of four.
URL:https://minchlife.com/event/arkies-quiz-19
LOCATION:Cotswold Club\, High Street\, Minchinhampton\, GL6 9BN\, United Kingdom
ATTACH;FMTTYPE=image/jpeg:https://minchlife.com/wp-content/uploads/2020/05/Quiz-26-June.jpg
END:VEVENT
BEGIN:VEVENT
DTSTART;TZID=UTC:20251103T200000
DTEND;TZID=UTC:20251103T220000
DTSTAMP:20260423T132658
CREATED:20250916T111504Z
LAST-MODIFIED:20251030T170146Z
UID:29084-1762200000-1762207200@minchlife.com
SUMMARY:Pints and Perspectives
DESCRIPTION:Join us for an evening of thoughtful discussion and friendly conversation. This month’s theme: “What is Church For?” We’ll explore the role of the church in modern life — as a community\, a moral compass\, or perhaps something entirely different. Our group is open to everyone — welcoming all backgrounds and viewpoints.\nWe’re non-denominational\, non-religious\, and dedicated to open-minded dialogue. New members and curious minds are always welcome. Come along\, enjoy a drink\, and join the discussion!
URL:https://minchlife.com/event/pints-and-perspectives-2
LOCATION:Cotswold Club\, High Street\, Minchinhampton\, GL6 9BN\, United Kingdom
ATTACH;FMTTYPE=image/jpeg:https://minchlife.com/wp-content/uploads/2025/07/IMG_0368.jpeg
END:VEVENT
BEGIN:VEVENT
DTSTART;TZID=UTC:20251104T143000
DTEND;TZID=UTC:20251104T163000
DTSTAMP:20260423T132658
CREATED:20251018T162809Z
LAST-MODIFIED:20251018T162809Z
UID:29295-1762266600-1762273800@minchlife.com
SUMMARY:Afternoon Fellowship Harvest Thanksgiving
DESCRIPTION:
URL:https://minchlife.com/event/afternoon-fellowship-harvest-thanksgiving
LOCATION:Holy Trinity Church\, Minchinhampton\, Holy Trinity Church\, Minchinhampton\, GL6 9BW
ATTACH;FMTTYPE=image/png:https://minchlife.com/wp-content/uploads/2025/10/IMG_0039.png
END:VEVENT
BEGIN:VEVENT
DTSTART;TZID=UTC:20251105T143000
DTEND;TZID=UTC:20251105T163000
DTSTAMP:20260423T132658
CREATED:20250220T114945Z
LAST-MODIFIED:20250220T114946Z
UID:26446-1762353000-1762360200@minchlife.com
SUMMARY:W.I. Annual Meeting and supporting the Emmaus Charity
DESCRIPTION:Our monthly meetings provide an opportunity for women of all ages to meet together in a friendly\, relaxed and warm atmosphere.\n\nWe spend a little time talking through local and national WI activities that are open to all members.  This is followed by a talk given by a guest speaker on one of a wide range of engaging topics.\n\nRefreshments and an opportunity to get to know each other and make new friends are key parts of every meeting.\n\nYou are welcome to attend some of our meetings as a visitor before joining.\n\nFor more information\, contact Sandy (President) emery31@btinternet.com\nChristina ( Secretary) gooch764@btinternet.com\nJoy (Minch Life liason rep) joyburr005@gmail.com ‘
URL:https://minchlife.com/event/w-i-annual-meeting-and-supporting-the-emmaus-charity
LOCATION:Minchinhampton Scout Hut (Coronation Hut)\, 16 Dr Browns Road\, Minchinhampton\, GL6 9BT
ATTACH;FMTTYPE=image/png:https://minchlife.com/wp-content/uploads/2021/09/WI.png
END:VEVENT
BEGIN:VEVENT
DTSTART;TZID=UTC:20251105T180000
DTEND;TZID=UTC:20251105T203000
DTSTAMP:20260423T132658
CREATED:20251031T130109Z
LAST-MODIFIED:20251031T130145Z
UID:29448-1762365600-1762374600@minchlife.com
SUMMARY:Bonfire and Pizza at Hill House\, Amberley
DESCRIPTION:An informal bonfire and pizza in the gardens of Hill House on November 5th – see poster for details….no fireworks\, bring sparklers if you wish (you are responsible for their use). A chance to say hello to your neighbours and friends around a bonfire with hand made pizzas from our very own clay oven….you are welcome to join in making them too!….Please let us know if you would like to come along – katesanctuarybreaks@gmail.com. Bring a torch \, wear wellies and wrap up warm…..
URL:https://minchlife.com/event/29448
LOCATION:Hill House\, Amberley\, Stroud\, GL5 5AL\, United Kingdom
ATTACH;FMTTYPE=image/jpeg:https://minchlife.com/wp-content/uploads/2025/10/Bonfire-and-Pizza.jpg
END:VEVENT
BEGIN:VEVENT
DTSTART;TZID=UTC:20251105T180000
DTEND;TZID=UTC:20251105T210000
DTSTAMP:20260423T132658
CREATED:20250916T110826Z
LAST-MODIFIED:20250916T110827Z
UID:29080-1762365600-1762376400@minchlife.com
SUMMARY:Locals Night at the Crown
DESCRIPTION:The first Wednesday evening of every month is locals night in the barn. The team at The Crown welcome locals to come down for a special set menu created by our talented head chef Luka. 2 courses for £20 and 3 courses for £25. Bookings are highly recommended as we expect this to be a popular night.
URL:https://minchlife.com/event/locals-night-at-the-crown-15
LOCATION:The Crown Inn\, High Street Minchinhampton\, GL6 9BN\, United Kingdom
ATTACH;FMTTYPE=image/jpeg:https://minchlife.com/wp-content/uploads/2024/06/Locals-Night.jpg
END:VEVENT
BEGIN:VEVENT
DTSTART;TZID=UTC:20251106T103000
DTEND;TZID=UTC:20251106T120000
DTSTAMP:20260423T132658
CREATED:20250906T095136Z
LAST-MODIFIED:20250906T095545Z
UID:28949-1762425000-1762430400@minchlife.com
SUMMARY:Hampton Probus:  Lost the Plot
DESCRIPTION:Speaker:  Fiona Warin \nFor further information contact: webmaster@hamptonprobus.co.uk
URL:https://minchlife.com/event/hampton-probus-lost-the-plot
LOCATION:Cotswold Club\, High Street\, Minchinhampton\, GL6 9BN\, United Kingdom
ATTACH;FMTTYPE=image/jpeg:https://minchlife.com/wp-content/uploads/2023/09/Probus.jpg
END:VEVENT
BEGIN:VEVENT
DTSTART;TZID=UTC:20251106T182000
DTEND;TZID=UTC:20251107T184500
DTSTAMP:20260423T132658
CREATED:20251107T114520Z
LAST-MODIFIED:20251107T114520Z
UID:29490-1762453200-1762541100@minchlife.com
SUMMARY:Fireworks at Beaudesert School
DESCRIPTION:Beaudesert Park School’s firework display will take place from 6:20pm to 6:45pm.\n\n\nWe hope many of you will be able to watch the display from the Common or down in Nailsworth.
URL:https://minchlife.com/event/fireworks-at-beaudesert-school-2
LOCATION:Beaudesert Park School\, Minchinhampton\, GL6 9AF\, United Kingdom
ATTACH;FMTTYPE=image/jpeg:https://minchlife.com/wp-content/uploads/2025/11/Beaudesert-Fireworks25.jpg
END:VEVENT
BEGIN:VEVENT
DTSTART;TZID=UTC:20251107T183000
DTEND;TZID=UTC:20251107T210000
DTSTAMP:20260423T132658
CREATED:20251030T151338Z
LAST-MODIFIED:20251030T151338Z
UID:29400-1762540200-1762549200@minchlife.com
SUMMARY:Cotswold Sessions
DESCRIPTION:Folk tunes in the bottom bar.  All welcome to join or watch.
URL:https://minchlife.com/event/cotswold-sessions-8
LOCATION:Cotswold Club\, High Street\, Minchinhampton\, GL6 9BN\, United Kingdom
ATTACH;FMTTYPE=image/jpeg:https://minchlife.com/wp-content/uploads/2025/03/Sessions.jpg
END:VEVENT
BEGIN:VEVENT
DTSTART;TZID=UTC:20251107T193000
DTEND;TZID=UTC:20251107T213000
DTSTAMP:20260423T132658
CREATED:20250325T124313Z
LAST-MODIFIED:20251030T170726Z
UID:26873-1762543800-1762551000@minchlife.com
SUMMARY:Remembrance Talk:  Minchinhampton Local History Group
DESCRIPTION:It is a Remembrance talk  by the local History Group.  Essentially\, the talk is about Minchinhampton men’s involvement in the Boer War\, the Minchinhampton casualties\, something about the Ricardos [Ambrose won a DSO in the Boer War] and Dr Brown of Dr Brown’s Road [who was also there]. \nBrian Lett will do the first half\, Martyn Beaufort will do the second half [which is about Dr Brown]. \nWe are not confining it just to the Boer War\, but will wander into various other aspects of war-related Minchinhampton history [such as the Memorial Hall]. All ticket money will go to the RBL. There is no band this year\, but we will use Alan Vaughan’s remembrance piece again.
URL:https://minchlife.com/event/remembrance-talk-minchinhampton-local-history-group
LOCATION:Minchinhampton Market House\, Market Square\, Minchinhampton\, GL6 9BW\, United Kingdom
ATTACH;FMTTYPE=image/png:https://minchlife.com/wp-content/uploads/2025/03/Boer-war-poster.png
END:VEVENT
BEGIN:VEVENT
DTSTART;TZID=UTC:20251108T140000
DTEND;TZID=UTC:20251108T160000
DTSTAMP:20260423T132658
CREATED:20251030T165512Z
LAST-MODIFIED:20251030T165512Z
UID:29436-1762610400-1762617600@minchlife.com
SUMMARY:Free Bike Marking in the Undercroft
DESCRIPTION:Local PCSOs will be at the undercroft to conduct some FREE Bike Marking. Please come along and talk to us about any concerns you may have. \nFurther details on Bike Marking can be found here The National Cycle Database | BikeRegister  and future events can be found here Find a marking event | BikeRegister \nIf you’re unable to join us\, you can find plenty of crime prevention advice on our website: https://www.gloucestershire.police.uk/cp/crime-prevention/
URL:https://minchlife.com/event/free-bike-marking-in-the-undercroft
LOCATION:The Undercroft\, Minchinhampton Market House\, Market Square\, Minchinhampton\, GL6 9BW\, United Kingdom
END:VEVENT
BEGIN:VEVENT
DTSTART;TZID=UTC:20251108T163000
DTEND;TZID=UTC:20251108T200000
DTSTAMP:20260423T132658
CREATED:20250927T112837Z
LAST-MODIFIED:20251031T110054Z
UID:29150-1762619400-1762632000@minchlife.com
SUMMARY:Fireworks at the Minchinhampton Academy
DESCRIPTION:It’s a wonderful community event that raises much needed funds for the school.\n\n\nTicket link:\nhttps://minchinhampton-school-pta.sumupstore.com/product/fireworks-tickets
URL:https://minchlife.com/event/fireworks-at-the-minchinhampton-academy
LOCATION:Minchinhampton School (C of E Primary Academy)\, School Road\, Minchinhampton\, GL6 9BP\, United Kingdom
ATTACH;FMTTYPE=image/jpeg:https://minchlife.com/wp-content/uploads/2025/09/IMG_0030.jpeg
END:VEVENT
BEGIN:VEVENT
DTSTART;TZID=UTC:20251108T200000
DTEND;TZID=UTC:20251108T230000
DTSTAMP:20260423T132658
CREATED:20251030T151540Z
LAST-MODIFIED:20251030T152140Z
UID:29402-1762632000-1762642800@minchlife.com
SUMMARY:Band Substance - Rock & Pop at the Club
DESCRIPTION:Rock and Pop covers band. \nAll welcome.
URL:https://minchlife.com/event/band-substance-rock-pop-at-the-club
LOCATION:Cotswold Club\, High Street\, Minchinhampton\, GL6 9BN\, United Kingdom
ATTACH;FMTTYPE=image/jpeg:https://minchlife.com/wp-content/uploads/2025/10/Live-music.jpg
END:VEVENT
BEGIN:VEVENT
DTSTART;TZID=UTC:20251109T110000
DTEND;TZID=UTC:20251109T113000
DTSTAMP:20260423T132658
CREATED:20251009T110352Z
LAST-MODIFIED:20251010T062352Z
UID:29262-1762686000-1762687800@minchlife.com
SUMMARY:Remembrance Sunday at the Memorial Cross with the Royal British Legion
DESCRIPTION:To celebrate the Act of Remembrance.  Following the Church Service and Parade. \n  \nRoad closures will be in force between 10.45am and 11.20 am.
URL:https://minchlife.com/event/remembrance-sunday-at-the-memorial-cross-with-the-royal-british-legion
LOCATION:Market Square\, Minchinhampton\, GL6 9BW\, United Kingdom
ATTACH;FMTTYPE=image/png:https://minchlife.com/wp-content/uploads/2025/10/IMG_0391.png
END:VEVENT
BEGIN:VEVENT
DTSTART;TZID=UTC:20251110T103000
DTEND;TZID=UTC:20251110T120000
DTSTAMP:20260423T132658
CREATED:20251030T145137Z
LAST-MODIFIED:20251030T145233Z
UID:29382-1762770600-1762776000@minchlife.com
SUMMARY:Poems in the Porch Room
DESCRIPTION:Welcomes all\, but especially people who are living with memory problems. We share poems and reminiscences. Now held on the second Monday of each month For more information please phone Jo Smith 01453 834714
URL:https://minchlife.com/event/poems-in-the-porch-room-44
LOCATION:Porch Room\, Holy Trinity Church\, Holy Trinity Church\, Minchinhampton\, GL6 9BP
ATTACH;FMTTYPE=image/jpeg:https://minchlife.com/wp-content/uploads/2022/09/Poems.jpg
END:VEVENT
BEGIN:VEVENT
DTSTART;TZID=UTC:20251110T103000
DTEND;TZID=UTC:20251110T120000
DTSTAMP:20260423T132658
CREATED:20251107T114746Z
LAST-MODIFIED:20251107T114821Z
UID:29493-1762770600-1762776000@minchlife.com
SUMMARY:Meet your Parish Councillor - Cllr Gill Thomas
DESCRIPTION:Minchinhampton Parish Council is holding the first of their Meet Your Parish Councillor sessions with Parish Cllr Gill Thomas.\n\n\nThese sessions are open to all\, and are intended to be a casual and relaxed catch up with a different Councillor in a different location around the Parish every month as below:\n\nCllr Nick Hurst – Holy Trinity Church Christmas Fayre – 29/11/2025\nCllr Martin Quantock – The Crown Minchinhampton – Jan 2026\nCllr David Bolton – TBC – Feb 2026\n\nPlease do reach out if you have any suggestions for locations for 2026.
URL:https://minchlife.com/event/meet-your-parish-councillor-cllr-gill-thomas
LOCATION:Cotswold Club\, High Street\, Minchinhampton\, GL6 9BN\, United Kingdom
ATTACH;FMTTYPE=image/jpeg:https://minchlife.com/wp-content/uploads/2025/11/Meet-your-Parish-Councillor.jpg
END:VEVENT
BEGIN:VEVENT
DTSTART;TZID=UTC:20251110T123000
DTEND;TZID=UTC:20251110T140000
DTSTAMP:20260423T132658
CREATED:20251030T145457Z
LAST-MODIFIED:20251030T145630Z
UID:29385-1762777800-1762783200@minchlife.com
SUMMARY:Poetry and Words
DESCRIPTION:We meet on the 2nd Monday of every month at the Cotswold Club from 12.30 – 2.00pm. Bring along your favourite poem\, maybe something you have written yourself\, bring a couple of books to swap\, or just come along for a chat. All welcome.
URL:https://minchlife.com/event/poetry-and-words-23
LOCATION:Cotswold Club\, High Street\, Minchinhampton\, GL6 9BN\, United Kingdom
ATTACH;FMTTYPE=image/jpeg:https://minchlife.com/wp-content/uploads/2023/09/Poetry-and-Words.jpg
END:VEVENT
END:VCALENDAR