BEGIN:VCALENDAR
VERSION:2.0
PRODID:-//Minch Life - ECPv6.8.3//NONSGML v1.0//EN
CALSCALE:GREGORIAN
METHOD:PUBLISH
X-WR-CALNAME:Minch Life
X-ORIGINAL-URL:https://minchlife.com
X-WR-CALDESC:Events for Minch Life
REFRESH-INTERVAL;VALUE=DURATION:PT1H
X-Robots-Tag:noindex
X-PUBLISHED-TTL:PT1H
BEGIN:VTIMEZONE
TZID:UTC
BEGIN:STANDARD
TZOFFSETFROM:+0000
TZOFFSETTO:+0000
TZNAME:UTC
DTSTART:20260101T000000
END:STANDARD
END:VTIMEZONE
BEGIN:VEVENT
DTSTART;TZID=UTC:20260730T160000
DTEND;TZID=UTC:20260810T130000
DTSTAMP:20260423T101420
CREATED:20260416T160643Z
LAST-MODIFIED:20260416T160644Z
UID:31321-1785427200-1786366800@minchlife.com
SUMMARY:Giffords Circus at Minchinhampton Common
DESCRIPTION:Our brand-new show\, “Waterfield”\, is inspired by the beauty of the English countryside and the creatures that call it home. It is our most ambitious production yet—filled with breathtaking moments that will leave you holding your breath\, and daring acts that you may find yourself watching through your fingers. \nBookings online or telephone 01453 800200
URL:https://minchlife.com/event/giffords-circus-at-minchinhampton-common
LOCATION:Minchinhampton Common\, United Kingdom
ATTACH;FMTTYPE=image/png:https://minchlife.com/wp-content/uploads/2026/04/Giffords-Circus26.png
END:VEVENT
BEGIN:VEVENT
DTSTART;VALUE=DATE:20260804
DTEND;VALUE=DATE:20260805
DTSTAMP:20260423T101420
CREATED:20260416T155228Z
LAST-MODIFIED:20260416T155228Z
UID:31316-1785801600-1785887999@minchlife.com
SUMMARY:Amberley Gardening Club:  Visit to Great Chalfield Manor and Lacock Village
DESCRIPTION:For precise details of timing\, and further information about membership\,  please contact christo.p.bailey@outlook.com
URL:https://minchlife.com/event/amberley-gardening-club-visit-to-great-chalfield-manor-and-lacock-village
END:VEVENT
END:VCALENDAR