BEGIN:VCALENDAR
VERSION:2.0
PRODID:-//Minch Life - ECPv6.8.3//NONSGML v1.0//EN
CALSCALE:GREGORIAN
METHOD:PUBLISH
X-ORIGINAL-URL:https://minchlife.com
X-WR-CALDESC:Events for Minch Life
REFRESH-INTERVAL;VALUE=DURATION:PT1H
X-Robots-Tag:noindex
X-PUBLISHED-TTL:PT1H
BEGIN:VTIMEZONE
TZID:UTC
BEGIN:STANDARD
TZOFFSETFROM:+0000
TZOFFSETTO:+0000
TZNAME:UTC
DTSTART:20260101T000000
END:STANDARD
END:VTIMEZONE
BEGIN:VEVENT
DTSTART;VALUE=DATE:20260709
DTEND;VALUE=DATE:20260710
DTSTAMP:20260421T153906
CREATED:20260416T155028Z
LAST-MODIFIED:20260416T155028Z
UID:31314-1783555200-1783641599@minchlife.com
SUMMARY:Amberley Gardening Club:  Visit to Avebury Manor and Hookshouse Pottery
DESCRIPTION:For precise details of timing of this event\, and details about membership\, please contact christo.p.bailey@outlook.com
URL:https://minchlife.com/event/amberley-gardening-club-visit-to-avebury-manor-and-hookshouse-pottery
END:VEVENT
BEGIN:VEVENT
DTSTART;TZID=UTC:20260709T090000
DTEND;TZID=UTC:20260709T170000
DTSTAMP:20260421T153906
CREATED:20260126T143731Z
LAST-MODIFIED:20260201T143726Z
UID:30127-1783587600-1783616400@minchlife.com
SUMMARY:Trip to RHS Flower show at Badminton with Katie and Ian Jarvis
DESCRIPTION:New RHS Flower show at Badminton  Coach £20 + RHS Entrance £35\, total: £55    NB if we make a booking of 50\, then ticket rate drops to £30pp \nIn July 2026\, the Badminton Estate in South Gloucestershire will host the brand new RHS Badminton Flower Show.   Highlights include exciting new plant combinations in the Pocket Planting Gardens\, traditional craft skills at the RHS Artisan Gardens and vibrant summer displays from over 80 specialist nurseries. Sit back and enjoy music by the lakeside\, watch live gardening demonstrations on the stage and head to the Grow Your Own area for handy tips to take home. \nThe Badminton Estate\, home to the Duke and Duchess of Beaufort\, is a magnificent country house set within rolling parkland. Known for hosting the world-famous Badminton Horse Trials\, the estate has also been location to films and TV programmes including The Gentlemen and Bridgerton. The sport of badminton also originated at Badminton House in the 19th century. \nhttps://www.rhs.org.uk/shows-events/rhs-badminton-flower-show \n0915h Begin pickups \n1000h Badminton \n1500h Leave for home
URL:https://minchlife.com/event/trip-to-rhs-flower-show-at-badminton-with-katie-and-ian-jarvis
ATTACH;FMTTYPE=image/png:https://minchlife.com/wp-content/uploads/2026/01/RHS-Badminton.png
END:VEVENT
BEGIN:VEVENT
DTSTART;TZID=UTC:20260709T100000
DTEND;TZID=UTC:20260709T120000
DTSTAMP:20260421T153906
CREATED:20260320T171132Z
LAST-MODIFIED:20260320T171152Z
UID:30975-1783591200-1783598400@minchlife.com
SUMMARY:Minchinhampton Probus "A Members' Meeting".
DESCRIPTION:Minchinhampton Probus meets fortnightly on the second and fourth Thursday in the Porch Room\, Holy Trinity\, Minchinhampton.  Starts at 10am – with coffee and a catch up with other members.  The meeting comprises a brief business meeting for about 15 minutes then usually a guest speaker. Meeting finishes at noon. \nWe are a very friendly bunch of men from all sorts of backgrounds. The only qualification to join that that you are retired.  The subject of each meeting is as varied as we are! \nWe regularly have visits to local industry and other  social gatherings. \nPotential new members are very welcome to attend.  It would be helpful to know if you are coming!  No jacket required. \nPresident – Richard Smith. Speaker Secretary Steve Hoskin  and Secretary John Collinson. \nIf interested\, please contact Steve Hoskin 07511 324088
URL:https://minchlife.com/event/minchinhampton-probus-a-members-meeting
LOCATION:Porch Room\, Holy Trinity Church\, Holy Trinity Church\, Minchinhampton\, GL6 9BP
ATTACH;FMTTYPE=image/jpeg:https://minchlife.com/wp-content/uploads/2022/01/Probus.jpg
END:VEVENT
BEGIN:VEVENT
DTSTART;TZID=UTC:20260709T190000
DTEND;TZID=UTC:20260709T220000
DTSTAMP:20260421T153906
CREATED:20260212T191124Z
LAST-MODIFIED:20260414T112441Z
UID:30499-1783623600-1783634400@minchlife.com
SUMMARY:Shakespeare's "Comedy of Errors" at Horsfall House
DESCRIPTION:Start time this year 7pm and tickets will be available in advance as usual.  Gates open at 6pm. More details to follow. \n 
URL:https://minchlife.com/event/shakespeares-comedy-of-errors-at-horsfall-house
LOCATION:Horsfall House\, Windmill Road\, Minchinhampton\, GL6 9EY\, United Kingdom
ATTACH;FMTTYPE=image/png:https://minchlife.com/wp-content/uploads/2026/02/IMG_0438.png
END:VEVENT
END:VCALENDAR