BEGIN:VCALENDAR
VERSION:2.0
PRODID:-//Minch Life - ECPv6.8.3//NONSGML v1.0//EN
CALSCALE:GREGORIAN
METHOD:PUBLISH
X-ORIGINAL-URL:https://minchlife.com
X-WR-CALDESC:Events for Minch Life
REFRESH-INTERVAL;VALUE=DURATION:PT1H
X-Robots-Tag:noindex
X-PUBLISHED-TTL:PT1H
BEGIN:VTIMEZONE
TZID:UTC
BEGIN:STANDARD
TZOFFSETFROM:+0000
TZOFFSETTO:+0000
TZNAME:UTC
DTSTART:20260101T000000
END:STANDARD
END:VTIMEZONE
BEGIN:VEVENT
DTSTART;TZID=UTC:20260607T093000
DTEND;TZID=UTC:20260607T160000
DTSTAMP:20260421T114006
CREATED:20251228T112437Z
LAST-MODIFIED:20260324T133425Z
UID:29856-1780824600-1780848000@minchlife.com
SUMMARY:Horsfall House Charity Walk
DESCRIPTION:REGISTRATION OPEN FOR THE HORSFALL HOUSE ANNUAL COMMUNITY WALK! \nHorsfall House is delighted to open registration for one of the most cherished events in our calendar: the annual Community Walk\, taking place on Sunday 7 June. Whether you’re a seasoned hiker\, a relaxed weekend wanderer\, or joining us with your canine companions\, we invite you to take part in this much-loved fundraiser in support of our residents\, day centre and home care clients and their families. \nThis year’s 10-mile circular route sets off once again from Minchinhampton Library\,guiding walkers through some of the most picturesque countryside our communityhas to offer. The route concludes at Horsfall House\, where every participant will beawarded a certificate to mark their achievement.We are especially grateful to offer\, once again\, rare and specially granted access to Gatcombe Park Woods and Avening Court\, opened exclusively for participants of the community walk. For those wishing to shorten their route\, an optional return on foot will be available after Avening Court. In addition\, our Day Centre bus will run from Avening Social Club\, and thanks to the support of Playschool for Dogs\, dog-friendly transport will also be available\, shuttling walkers and their pets back to HorsfallHouse via the Bell Lane car park. Refreshments will be available at Avening Social Club and at Horsfall House at the end of the route. \nFree Parking will be available at Bell Lane overflow car park \n\n 
URL:https://minchlife.com/event/horsfall-house-charity-walk-summer-fair-provisional
LOCATION:Minchinhampton Community Library\, School Road\, Minchinhampton\, GL6 9BP\, United Kingdom
ATTACH;FMTTYPE=image/png:https://minchlife.com/wp-content/uploads/2025/12/IMG_0435.png
END:VEVENT
END:VCALENDAR