BEGIN:VCALENDAR
VERSION:2.0
PRODID:-//Minch Life - ECPv6.8.3//NONSGML v1.0//EN
CALSCALE:GREGORIAN
METHOD:PUBLISH
X-WR-CALNAME:Minch Life
X-ORIGINAL-URL:https://minchlife.com
X-WR-CALDESC:Events for Minch Life
REFRESH-INTERVAL;VALUE=DURATION:PT1H
X-Robots-Tag:noindex
X-PUBLISHED-TTL:PT1H
BEGIN:VTIMEZONE
TZID:UTC
BEGIN:STANDARD
TZOFFSETFROM:+0000
TZOFFSETTO:+0000
TZNAME:UTC
DTSTART:20260101T000000
END:STANDARD
END:VTIMEZONE
BEGIN:VEVENT
DTSTART;TZID=UTC:20260501T170000
DTEND;TZID=UTC:20260501T210000
DTSTAMP:20260421T094351
CREATED:20260319T174227Z
LAST-MODIFIED:20260328T105710Z
UID:30951-1777654800-1777669200@minchlife.com
SUMMARY:Woodfired Pizza in the Undercroft
DESCRIPTION:Menu as follows:\n\n\nMargherita – san Marzano tomato\, veggie parmesan\, basil\, mozzarella\, olive oil.\nPepperoni – san Marzano tomato\, mozzarella\, pepperoni\, ‘nduja crumb\, honey.\nAubergine – san Marzano tomato\, oregano\, garlic\, basil\, roasted aubergine\, mozzarella.\nSausage – san Marzano tomato\, basil\, garlic\, red onion\, house sausage\, garlic crunchies.\n\n\nBookings in advance would be useful (but not essential) – please contact:\n\n\n\nMail – hello@midnightpizza.co.uk\nPhone – 07800 742798\nWebsite – www.midnightpizza.co.uk\n\n\n\n\nTakeaways are still very welcome\, orders and collections to be done at Henry’s.
URL:https://minchlife.com/event/woodfired-pizza-in-the-undercroft-7
LOCATION:The Undercroft\, Minchinhampton Market House\, Market Square\, Minchinhampton\, GL6 9BW\, United Kingdom
ATTACH;FMTTYPE=image/png:https://minchlife.com/wp-content/uploads/2024/04/Midnight-Pizza-Logo-Black.png
END:VEVENT
BEGIN:VEVENT
DTSTART;TZID=UTC:20260501T183000
DTEND;TZID=UTC:20260501T210000
DTSTAMP:20260421T094351
CREATED:20260328T120116Z
LAST-MODIFIED:20260328T120117Z
UID:31096-1777660200-1777669200@minchlife.com
SUMMARY:Cotswold Folk Session
DESCRIPTION:Folk Session hosted by Julian. \nJoin us for an unforgettable evening of live music and community at our Folk Session\, where Julian\, a passionate and talented musician\, leads a night of soulful tunes and storytelling. Whether you’re a long-time folk music enthusiast or new to the genre\, this session is the perfect opportunity to immerse yourself in heartfelt melodies and connect with like-minded music lovers.
URL:https://minchlife.com/event/cotswold-folk-session-2
LOCATION:Cotswold Club\, High Street\, Minchinhampton\, GL6 9BN\, United Kingdom
ATTACH;FMTTYPE=image/webp:https://minchlife.com/wp-content/uploads/2026/01/folk-session-high.webp
END:VEVENT
END:VCALENDAR