BEGIN:VCALENDAR
VERSION:2.0
PRODID:-//Minch Life - ECPv6.8.3//NONSGML v1.0//EN
CALSCALE:GREGORIAN
METHOD:PUBLISH
X-WR-CALNAME:Minch Life
X-ORIGINAL-URL:https://minchlife.com
X-WR-CALDESC:Events for Minch Life
REFRESH-INTERVAL;VALUE=DURATION:PT1H
X-Robots-Tag:noindex
X-PUBLISHED-TTL:PT1H
BEGIN:VTIMEZONE
TZID:UTC
BEGIN:STANDARD
TZOFFSETFROM:+0000
TZOFFSETTO:+0000
TZNAME:UTC
DTSTART:20260101T000000
END:STANDARD
END:VTIMEZONE
BEGIN:VEVENT
DTSTART;TZID=UTC:20260426T103000
DTEND;TZID=UTC:20260426T140000
DTSTAMP:20260426T022816
CREATED:20260120T113424Z
LAST-MODIFIED:20260417T172733Z
UID:30039-1777199400-1777212000@minchlife.com
SUMMARY:Walking and Wildlife Group - Box Woods
DESCRIPTION:  \n  \nOur walk on 26th April will be led by our Box members – the Hemmings and the Hanks – and will feature the gardens at Box House and Stuart Fawkes nature reserve.  Please meet at Box Village Hall car park at 10.30 am. \nWe are an informal group of friends who enjoy walking\, wildlife\, good company and the occasional trip the pub. You are very welcome to join us – but entirely at your own risk!! \nAll walks use public footpaths which may be steep\, rough and slippery. Prepare accordingly.  \nWe generally walk on the last Sunday of each month\, starting at 10.30 and finishing by lunchtime\, unless otherwise specified in the programme. \nIf the weather is very poor\, we will cancel by email by 9.00am on the morning the walk was planned.  \nPlease contact karencolebourn@gmail.com to be added to the circulation list. \n\n  \n  \n  \n  \n  \n  \n  \n  \n  \n  \n  \n  \n  \n  \n  \n  \n  \n  \n  \n  \n  \n  \n  \n  \n  \n  \n 
URL:https://minchlife.com/event/walking-and-wildlife-group-6
LOCATION:Box Village Hall\, Box\, Stroud\, GL6 9HE\, United Kingdom
END:VEVENT
BEGIN:VEVENT
DTSTART;TZID=UTC:20260426T140000
DTEND;TZID=UTC:20260426T160000
DTSTAMP:20260426T022816
CREATED:20250220T160241Z
LAST-MODIFIED:20250220T160241Z
UID:26456-1777212000-1777219200@minchlife.com
SUMMARY:Pop up Sale organised by the W.I.
DESCRIPTION:Refreshments will be available and entry is free. \n  \nAny good quality donations for the sale can be brought to the Scout Hut between 1 – 2pm.   No electrical items.  Any unsold items will be donated to Horsfall House.
URL:https://minchlife.com/event/pop-up-sale-organised-by-the-w-i
LOCATION:Minchinhampton Scout Hut (Coronation Hut)\, 16 Dr Browns Road\, Minchinhampton\, GL6 9BT
ATTACH;FMTTYPE=image/png:https://minchlife.com/wp-content/uploads/2021/09/WI.png
END:VEVENT
BEGIN:VEVENT
DTSTART;TZID=UTC:20260426T150000
DTEND;TZID=UTC:20260426T170000
DTSTAMP:20260426T022816
CREATED:20260329T201424Z
LAST-MODIFIED:20260329T201424Z
UID:31203-1777215600-1777222800@minchlife.com
SUMMARY:People's Emergency Briefing - a public information film.
DESCRIPTION:A new public information film\, based on footage shown to MPs in Westminster\, about climate and nature breakdown. Join us to watch the film and discuss what we can do to make our community more resilient.\n\nThe tickets (free\, over 16s only) can be booked here: https://tinyurl.com/nebminch
URL:https://minchlife.com/event/peoples-emergency-briefing-a-public-information-film
LOCATION:Minchinhampton Market House\, Market Square\, Minchinhampton\, GL6 9BW\, United Kingdom
ATTACH;FMTTYPE=image/jpeg:https://minchlife.com/wp-content/uploads/2026/03/Copy-of-PEB-POSTER-NEW.jpg
END:VEVENT
END:VCALENDAR