BEGIN:VCALENDAR
VERSION:2.0
PRODID:-//Minch Life - ECPv6.8.3//NONSGML v1.0//EN
CALSCALE:GREGORIAN
METHOD:PUBLISH
X-WR-CALNAME:Minch Life
X-ORIGINAL-URL:https://minchlife.com
X-WR-CALDESC:Events for Minch Life
REFRESH-INTERVAL;VALUE=DURATION:PT1H
X-Robots-Tag:noindex
X-PUBLISHED-TTL:PT1H
BEGIN:VTIMEZONE
TZID:UTC
BEGIN:STANDARD
TZOFFSETFROM:+0000
TZOFFSETTO:+0000
TZNAME:UTC
DTSTART:20260101T000000
END:STANDARD
END:VTIMEZONE
BEGIN:VEVENT
DTSTART;TZID=UTC:20260425T100000
DTEND;TZID=UTC:20260425T123000
DTSTAMP:20260425T141127
CREATED:20260307T154055Z
LAST-MODIFIED:20260326T142105Z
UID:30784-1777111200-1777120200@minchlife.com
SUMMARY:Amberley Gardening Club "Plant Sale"
DESCRIPTION:On the forecourt of the Church/Amberley shop and cafe. \nThere will be a variety of plants including edibles\, ornamentals\, annuals\, perennials and small shrubs mostly grown by Amberley Gardening Club members.  Tea/coffee and cake/savouries from the Amberley shop and cafe. \nPlant Sale and Bric-a-Brac Stall – proceeds of bric a brac to Women’s Refuge.
URL:https://minchlife.com/event/amberley-gardening-club-plant-sale-2
LOCATION:Amberley Shop on the Common\, Holy Trinity Church\, Amberley\, Stroud\, GL5 5JG
ATTACH;FMTTYPE=image/jpeg:https://minchlife.com/wp-content/uploads/2026/03/Plant-Sale-March-26.jpg
END:VEVENT
BEGIN:VEVENT
DTSTART;TZID=UTC:20260425T110000
DTEND;TZID=UTC:20260425T130000
DTSTAMP:20260425T141127
CREATED:20260314T163739Z
LAST-MODIFIED:20260314T163812Z
UID:30854-1777114800-1777122000@minchlife.com
SUMMARY:Mini Makers Market
DESCRIPTION:We’re back celebrating our young creators – showcasing artists\, makers and crafters aged 16 and under.  The Long Table will be open as usual for excellent coffee\, cake and a nourishing pay-as-you-can lunch. \nTo book a table please contact nancy@thelongtableonline.com \nLet’s support and encourage our next generation of makers and entrepreneurs. \nJoin us 11:00–13:00 in The Sanctuary at Brimscombe Mill.
URL:https://minchlife.com/event/mini-makers-market-4
LOCATION:The Long Table\, Brimscombe Mill\, Stroud\, GL5 2SA\, United Kingdom
ATTACH;FMTTYPE=image/webp:https://minchlife.com/wp-content/uploads/2026/01/MiniMakersYellow.webp
END:VEVENT
BEGIN:VEVENT
DTSTART;TZID=UTC:20260425T113000
DTEND;TZID=UTC:20260425T123000
DTSTAMP:20260425T141127
CREATED:20260316T142812Z
LAST-MODIFIED:20260316T142812Z
UID:30887-1777116600-1777120200@minchlife.com
SUMMARY:Market House AGM
DESCRIPTION:
URL:https://minchlife.com/event/market-house-agm
LOCATION:Minchinhampton Market House\, Market Square\, Minchinhampton\, GL6 9BW\, United Kingdom
ATTACH;FMTTYPE=image/jpeg:https://minchlife.com/wp-content/uploads/2026/03/Market-House-AGM-26.jpg
END:VEVENT
BEGIN:VEVENT
DTSTART;TZID=UTC:20260425T160000
DTEND;TZID=UTC:20260425T180000
DTSTAMP:20260425T141127
CREATED:20260307T152306Z
LAST-MODIFIED:20260314T164046Z
UID:30781-1777132800-1777140000@minchlife.com
SUMMARY:The Stuart Singers with the Wyndham Singers present a concert of Songs for Spring
DESCRIPTION:The local Minchinhampton choir will be joined by a Devon male voice choir to present a varied programme of popular light music sung in 4-part harmony\, raising funds for Gloucester and District Samaritans \nMusical Director: Helen Sims      Accompanist: Matthew Sharp \nCome and enjoy a welcoming atmosphere\, joyful music and interval tea and home-made cakes! \nTickets £12.50 (Under 16s free) \nFrom www.stuartsingers.com or Market Stores or on the door..
URL:https://minchlife.com/event/the-stuart-singers-with-the-wyndham-singers-present-a-concert-of-songs-for-spring
LOCATION:Holy Trinity Church\, Minchinhampton\, Holy Trinity Church\, Minchinhampton\, GL6 9BW
ATTACH;FMTTYPE=image/jpeg:https://minchlife.com/wp-content/uploads/2026/03/Stuart-Singers-April-26.jpg
END:VEVENT
BEGIN:VEVENT
DTSTART;TZID=UTC:20260425T190000
DTEND;TZID=UTC:20260425T220000
DTSTAMP:20260425T141127
CREATED:20260125T172006Z
LAST-MODIFIED:20260126T125602Z
UID:30105-1777143600-1777154400@minchlife.com
SUMMARY:"The Audience"  Live National Theatre at the Market House
DESCRIPTION:Returning to cinemas for the first time in over a decade\, Helen Mirren plays Queen Elizabeth II in the Olivier and Tony Award® -winning hit production\, directed by Stephen Daldry. \nFor 60 years\, Queen Elizabeth II met with each of her 12 prime ministers in a private weekly meeting. This meeting is known as The Audience. From Winston Churchill to Margaret Thatcher and David Cameron\, the Queen advised her prime ministers on matters both public and personal. Through these private audiences\, we see glimpses of the woman behind the crown and witness the moments that shaped a monarch. \nPeter Morgan’s Netflix phenomenon The Crown was based on this hit play that was captured live from London’s West End in 2013 and went on to become one of the most-watched NT Live productions. \n  \nTickets available from the Market Stores (from 1st March) \nor online. \nwww.minchinhamptonmarkethouse.co.uk
URL:https://minchlife.com/event/live-from-the-national-at-the-market-house
LOCATION:Minchinhampton Market House\, Market Square\, Minchinhampton\, GL6 9BW\, United Kingdom
ATTACH;FMTTYPE=image/png:https://minchlife.com/wp-content/uploads/2026/01/The-Audience.png
END:VEVENT
END:VCALENDAR