BEGIN:VCALENDAR
VERSION:2.0
PRODID:-//Minch Life - ECPv6.8.3//NONSGML v1.0//EN
CALSCALE:GREGORIAN
METHOD:PUBLISH
X-WR-CALNAME:Minch Life
X-ORIGINAL-URL:https://minchlife.com
X-WR-CALDESC:Events for Minch Life
REFRESH-INTERVAL;VALUE=DURATION:PT1H
X-Robots-Tag:noindex
X-PUBLISHED-TTL:PT1H
BEGIN:VTIMEZONE
TZID:UTC
BEGIN:STANDARD
TZOFFSETFROM:+0000
TZOFFSETTO:+0000
TZNAME:UTC
DTSTART:20260101T000000
END:STANDARD
END:VTIMEZONE
BEGIN:VEVENT
DTSTART;TZID=UTC:20260417T190000
DTEND;TZID=UTC:20260419T180000
DTSTAMP:20260422T102755
CREATED:20260225T150725Z
LAST-MODIFIED:20260326T171547Z
UID:30661-1776452400-1776621600@minchlife.com
SUMMARY:POSTPONED:  Celebration Event - Organ Restoration - at Holy Trinity Church\, Minchinhampton
DESCRIPTION:Sadly due to time pressures surrounding the organ restoration\, the Church Council  has decided that it would be wise to postpone the celebration festival.  The restoration of this wonderful instrument has proved to be more complex and in-depth than we had originally foreseen. \nThere will be a celebration in the near future. \n  \n  \n 
URL:https://minchlife.com/event/celebration-event-organ-restoration-at-holy-trinity-church-minchinhampton
END:VEVENT
BEGIN:VEVENT
DTSTART;TZID=UTC:20260418T090000
DTEND;TZID=UTC:20260418T120000
DTSTAMP:20260422T102755
CREATED:20260417T085033Z
LAST-MODIFIED:20260417T085034Z
UID:31329-1776502800-1776513600@minchlife.com
SUMMARY:Minchinhampton Community Hub - Open morning
DESCRIPTION:
URL:https://minchlife.com/event/minchinhampton-community-hub-open-morning
LOCATION:The Hub\, Minchinhampton Community Hub\, Tobacconist Road\, Minchinhampton\, GL6 9JJ\, United Kingdom
ATTACH;FMTTYPE=image/jpeg:https://minchlife.com/wp-content/uploads/2026/04/Hub-Open-Morning.jpg
END:VEVENT
BEGIN:VEVENT
DTSTART;TZID=UTC:20260418T100000
DTEND;TZID=UTC:20260418T140000
DTSTAMP:20260422T102755
CREATED:20260314T165049Z
LAST-MODIFIED:20260314T165105Z
UID:30861-1776506400-1776520800@minchlife.com
SUMMARY:Teen Stuff Sale
DESCRIPTION:New fits. Less waste.\nCome and refresh your wardrobe without trashing the planet. \nThis is an anime day for teens — loads of great clothes and space to hang out with your friends. \nWe’ll have: \n\n\ncurated rails of pre-loved clothes \n\n\nAnime themed. \n\n\nBring a friend\, take your time\, try things on\, eat well\, and leave with something you love. \nGood style. Good vibes. No fast fashion guilt.
URL:https://minchlife.com/event/teen-stuff-sale
LOCATION:Sanctuary Space\, Brimscombe Mills\, Brimscombe\, GL5 2QN\, United Kingdom
ATTACH;FMTTYPE=image/webp:https://minchlife.com/wp-content/uploads/2026/03/Teen-Sale.webp
END:VEVENT
BEGIN:VEVENT
DTSTART;TZID=UTC:20260418T100000
DTEND;TZID=UTC:20260418T140000
DTSTAMP:20260422T102755
CREATED:20260414T112017Z
LAST-MODIFIED:20260414T112017Z
UID:31289-1776506400-1776520800@minchlife.com
SUMMARY:Open DJ Workshop
DESCRIPTION:Drop by The Sanctuary on Saturday 18th April and have a go on the decks with our free DJ workshop with Stuart Day – 10am-2pm! \nUsing CDJs\, a laptop and a digital vinyl system. you’ll get hands on and learn the basics of mixing music. It’s designed with young people in mind- but open to all ages and abilities. \nWhether you’re a curious beginner or just want to have some fun trying something new\, come and get stuck in. \nNo booking needed.
URL:https://minchlife.com/event/open-dj-workshop
LOCATION:The Long Table\, Brimscombe Mill\, Stroud\, GL5 2SA\, United Kingdom
END:VEVENT
BEGIN:VEVENT
DTSTART;TZID=UTC:20260418T110000
DTEND;TZID=UTC:20260418T120000
DTSTAMP:20260422T102755
CREATED:20260313T113425Z
LAST-MODIFIED:20260313T114956Z
UID:30808-1776510000-1776513600@minchlife.com
SUMMARY:Hazel beanpoles and pea sticks sale at Minch allotments
DESCRIPTION:We have arranged for the sale of Bean poles and pea sticks.  These are Hazel products produced as a result of the coppice restoration project at Westonbirt.  If you cannot make that time and date\, contact Naomi to arrange collection/delivery/payment. \n07449 337082.   westonbirtcoppiceproducts@gmail.com
URL:https://minchlife.com/event/hazel-beanpoles-and-pea-sticks-sale
LOCATION:Tobacconist Road\, Minchinhampton
ATTACH;FMTTYPE=image/jpeg:https://minchlife.com/wp-content/uploads/2026/03/Minchinhampton-Beanpole-flyer-web-scaled.jpeg
END:VEVENT
BEGIN:VEVENT
DTSTART;TZID=UTC:20260418T203000
DTEND;TZID=UTC:20260418T230000
DTSTAMP:20260422T102755
CREATED:20260326T173507Z
LAST-MODIFIED:20260326T173552Z
UID:31069-1776544200-1776553200@minchlife.com
SUMMARY:The Usual Suspects at the Cotswold Club
DESCRIPTION:The Usual Suspects Band is set to deliver electrifying covers of iconic hits from Queen\, Simple Minds\, Stereophonics\, U2\, The Cult\, The Moody Blues\, The Beatles\, and many more.
URL:https://minchlife.com/event/the-usual-suspects-at-the-cotswold-club
LOCATION:Cotswold Club\, High Street\, Minchinhampton\, GL6 9BN\, United Kingdom
ATTACH;FMTTYPE=image/webp:https://minchlife.com/wp-content/uploads/2026/03/Usual-Suspects.webp
END:VEVENT
END:VCALENDAR