BEGIN:VCALENDAR
VERSION:2.0
PRODID:-//Minch Life - ECPv6.8.3//NONSGML v1.0//EN
CALSCALE:GREGORIAN
METHOD:PUBLISH
X-ORIGINAL-URL:https://minchlife.com
X-WR-CALDESC:Events for Minch Life
REFRESH-INTERVAL;VALUE=DURATION:PT1H
X-Robots-Tag:noindex
X-PUBLISHED-TTL:PT1H
BEGIN:VTIMEZONE
TZID:UTC
BEGIN:STANDARD
TZOFFSETFROM:+0000
TZOFFSETTO:+0000
TZNAME:UTC
DTSTART:20260101T000000
END:STANDARD
END:VTIMEZONE
BEGIN:VEVENT
DTSTART;TZID=UTC:20260325T120000
DTEND;TZID=UTC:20260325T133000
DTSTAMP:20260421T095000
CREATED:20260205T115523Z
LAST-MODIFIED:20260205T115523Z
UID:30366-1774440000-1774445400@minchlife.com
SUMMARY:Lent Lunch at Holy Trinity\, Minchinhampton
DESCRIPTION:4th\, 18th\, 25th March \,12noon. Lent lunch\, Porch Room. Join us for a simple lunch of soup and a roll.
URL:https://minchlife.com/event/lent-lunch-at-holy-trinity-minchinhampton-2
LOCATION:Porch Room\, Holy Trinity Church\, Holy Trinity Church\, Minchinhampton\, GL6 9BP
ATTACH;FMTTYPE=image/png:https://minchlife.com/wp-content/uploads/2026/02/IMG_0429.png
END:VEVENT
BEGIN:VEVENT
DTSTART;TZID=UTC:20260325T143000
DTEND;TZID=UTC:20260325T160000
DTSTAMP:20260421T095000
CREATED:20260211T163240Z
LAST-MODIFIED:20260211T163320Z
UID:30455-1774449000-1774454400@minchlife.com
SUMMARY:Just Sing!
DESCRIPTION:
URL:https://minchlife.com/event/just-sing-16
LOCATION:Minchinhampton Community Library\, School Road\, Minchinhampton\, GL6 9BP\, United Kingdom
ATTACH;FMTTYPE=image/jpeg:https://minchlife.com/wp-content/uploads/2025/10/JustSing25.jpg
END:VEVENT
END:VCALENDAR