BEGIN:VCALENDAR
VERSION:2.0
PRODID:-//Minch Life - ECPv6.8.3//NONSGML v1.0//EN
CALSCALE:GREGORIAN
METHOD:PUBLISH
X-WR-CALNAME:Minch Life
X-ORIGINAL-URL:https://minchlife.com
X-WR-CALDESC:Events for Minch Life
REFRESH-INTERVAL;VALUE=DURATION:PT1H
X-Robots-Tag:noindex
X-PUBLISHED-TTL:PT1H
BEGIN:VTIMEZONE
TZID:UTC
BEGIN:STANDARD
TZOFFSETFROM:+0000
TZOFFSETTO:+0000
TZNAME:UTC
DTSTART:20260101T000000
END:STANDARD
END:VTIMEZONE
BEGIN:VEVENT
DTSTART;TZID=UTC:20260321T100000
DTEND;TZID=UTC:20260321T130000
DTSTAMP:20260421T144857
CREATED:20260205T120339Z
LAST-MODIFIED:20260205T120339Z
UID:30372-1774087200-1774098000@minchlife.com
SUMMARY:Churchyard Tidy Up in Minchinhampton
DESCRIPTION:Churchyard Tidy up with coffee. Join us to help with our spring tidy up of the churchyard.
URL:https://minchlife.com/event/churchyard-tidy-up-in-minchinhampton
LOCATION:Holy Trinity Church\, Minchinhampton\, Holy Trinity Church\, Minchinhampton\, GL6 9BW
ATTACH;FMTTYPE=image/png:https://minchlife.com/wp-content/uploads/2026/02/IMG_0431.png
END:VEVENT
BEGIN:VEVENT
DTSTART;TZID=UTC:20260321T143000
DTEND;TZID=UTC:20260321T170000
DTSTAMP:20260421T144857
CREATED:20260211T160503Z
LAST-MODIFIED:20260211T160524Z
UID:30425-1774103400-1774112400@minchlife.com
SUMMARY:Jack and the Magic Apple (Box Players)
DESCRIPTION:It’s panto time again and Box Players is excited to announce that its 2026 production will be “Jack and the magic Apple”\, written and directed by Jessamy Baxter and based on “The Magic Apple” by Brian Woosey. It’s a tale of local life when the wool trade was being industrialised and driving the cottage weavers of Box into poverty. But it’s not all doom and gloom: a mysterious community of “off-gridders” brings magical powers to Jack Nittypickles\, the hero of our story\, who falls head-over-heels for the beautiful and intelligent mill owner’s daughter. Meanwhile\, her rather idiotic father\, one Clothbert Woolsack-Bumblethorpe\, is fooled into hiring Tom Long and his highwaymen (how did they get in here?) as his mill management team. This turns out to be a disastrous mistake! Join us as we “weave a yarn” of magic\, mystery and local history. Wil Tom Long get his way\, or will Jack save the day? \nPerformances at Box Village Hall are at 7.30pm on Thursday 19th\, Friday 20th and Saturday 21st March\, with a matinee at 2.30pm on Saturday 21st March. Tickets\, at £10 for adults and £5 for children\, are available from Jane Storey on 07855 188155 or by email at storeyjane273@hotmail.com
URL:https://minchlife.com/event/30425
LOCATION:Box Village Hall\, Box\, Stroud\, GL6 9HE\, United Kingdom
ATTACH;FMTTYPE=image/jpeg:https://minchlife.com/wp-content/uploads/2025/12/Jack-and-the-Magic-Apple.jpg
END:VEVENT
BEGIN:VEVENT
DTSTART;TZID=UTC:20260321T191500
DTEND;TZID=UTC:20260321T220000
DTSTAMP:20260421T144857
CREATED:20260224T173158Z
LAST-MODIFIED:20260224T173404Z
UID:30589-1774120500-1774130400@minchlife.com
SUMMARY:Wendy's Cash Bingo
DESCRIPTION:Book Sales 7.15pm\, Eyes Down 7.45pm Members and guests welcome.
URL:https://minchlife.com/event/wendys-cash-bingo-21
LOCATION:Cotswold Club\, High Street\, Minchinhampton\, GL6 9BN\, United Kingdom
ATTACH;FMTTYPE=image/webp:https://minchlife.com/wp-content/uploads/2026/02/bingo-march-26.webp
END:VEVENT
BEGIN:VEVENT
DTSTART;TZID=UTC:20260321T193000
DTEND;TZID=UTC:20260321T220000
DTSTAMP:20260421T144857
CREATED:20260201T144643Z
LAST-MODIFIED:20260201T145108Z
UID:30330-1774121400-1774130400@minchlife.com
SUMMARY:Thames Head Singers:  Petite Messe Solennelle
DESCRIPTION:Thames Head Singers with Cardiff Cotswold Opera \nRossini described this mass as a ‘sin of his old age’ and it is certainly a mass likeno other!  Full of optimism and humour and with the flamboyance and dramacharacteristic of his earlier operas – it’s not to be missed.  This unique mass (in Rossini’s original setting) will be sung by four talented soloists\, with burgeoning careers in opera\, accompanied by Julian Elloway (piano)\, Tim Ingold (harmonium) and of course\, Stroud’s Thames Head Singers. \nIt will be directed by Andrew Hopwood.Starts at 7.30pm – arrive early for pre-concert drinks from 6.45pm. \nTickets £18.00 (18 & under free) from M&B Stores\, Minchinhampton or online from TicketSource. Box office 0333 666 3366.  Further information: www.thamesheadsingers.org.uk
URL:https://minchlife.com/event/thames-head-singers-petite-messe-solennelle
LOCATION:Holy Trinity Church\, Minchinhampton\, Holy Trinity Church\, Minchinhampton\, GL6 9BW
ATTACH;FMTTYPE=image/jpeg:https://minchlife.com/wp-content/uploads/2026/02/THS-Spring-Concert-poster-26.jpg
END:VEVENT
BEGIN:VEVENT
DTSTART;TZID=UTC:20260321T193000
DTEND;TZID=UTC:20260321T220000
DTSTAMP:20260421T144857
CREATED:20260211T160020Z
LAST-MODIFIED:20260211T160239Z
UID:30419-1774121400-1774130400@minchlife.com
SUMMARY:Jack and the Magic Apple (Box Players)
DESCRIPTION:It’s panto time again and Box Players is excited to announce that its 2026 production will be “Jack and the magic Apple”\, written and directed by Jessamy Baxter and based on “The Magic Apple” by Brian Woosey. It’s a tale of local life when the wool trade was being industrialised and driving the cottage weavers of Box into poverty. But it’s not all doom and gloom: a mysterious community of “off-gridders” brings magical powers to Jack Nittypickles\, the hero of our story\, who falls head-over-heels for the beautiful and intelligent mill owner’s daughter. Meanwhile\, her rather idiotic father\, one Clothbert Woolsack-Bumblethorpe\, is fooled into hiring Tom Long and his highwaymen (how did they get in here?) as his mill management team. This turns out to be a disastrous mistake! Join us as we “weave a yarn” of magic\, mystery and local history. Wil Tom Long get his way\, or will Jack save the day? \nPerformances at Box Village Hall are at 7.30pm on Thursday 19th\, Friday 20th and Saturday 21st March\, with a matinee at 2.30pm on Saturday 21st March. Tickets\, at £10 for adults and £5 for children\, are available from Jane Storey on 07855 188155 or by email at storeyjane273@hotmail.com
URL:https://minchlife.com/event/jack-and-the-magic-apple-box-players
LOCATION:Box Village Hall\, Box\, Stroud\, GL6 9HE\, United Kingdom
ATTACH;FMTTYPE=image/jpeg:https://minchlife.com/wp-content/uploads/2025/12/Jack-and-the-Magic-Apple.jpg
END:VEVENT
END:VCALENDAR