BEGIN:VCALENDAR
VERSION:2.0
PRODID:-//Minch Life - ECPv6.8.3//NONSGML v1.0//EN
CALSCALE:GREGORIAN
METHOD:PUBLISH
X-ORIGINAL-URL:https://minchlife.com
X-WR-CALDESC:Events for Minch Life
REFRESH-INTERVAL;VALUE=DURATION:PT1H
X-Robots-Tag:noindex
X-PUBLISHED-TTL:PT1H
BEGIN:VTIMEZONE
TZID:UTC
BEGIN:STANDARD
TZOFFSETFROM:+0000
TZOFFSETTO:+0000
TZNAME:UTC
DTSTART:20260101T000000
END:STANDARD
END:VTIMEZONE
BEGIN:VEVENT
DTSTART;TZID=UTC:20260318T103000
DTEND;TZID=UTC:20260318T120000
DTSTAMP:20260421T085502
CREATED:20260211T165502Z
LAST-MODIFIED:20260225T170517Z
UID:30481-1773829800-1773835200@minchlife.com
SUMMARY:Social Book Club
DESCRIPTION:A relaxing informal book chat over tea and coffee. We normally have a subject or type of book that we discuss. This month’s topic will be “Spring”.   Our group meets on the 3rd Wednesday each month at 10:30. All welcome to come along.
URL:https://minchlife.com/event/social-book-club-37
LOCATION:Minchinhampton Community Library\, School Road\, Minchinhampton\, GL6 9BP\, United Kingdom
ATTACH;FMTTYPE=image/jpeg:https://minchlife.com/wp-content/uploads/2023/02/Bookclub-and-Coffee.jpg
END:VEVENT
BEGIN:VEVENT
DTSTART;TZID=UTC:20260318T120000
DTEND;TZID=UTC:20260318T133000
DTSTAMP:20260421T085502
CREATED:20260205T115305Z
LAST-MODIFIED:20260205T115305Z
UID:30364-1773835200-1773840600@minchlife.com
SUMMARY:Lent Lunch at Holy Trinity\, Minchinhampton
DESCRIPTION:4th\, 18th\, 25th March \,12noon. Lent lunch\, Porch Room. Join us for a simple lunch of soup and a roll.
URL:https://minchlife.com/event/lent-lunch-at-holy-trinity-minchinhampton
LOCATION:Porch Room\, Holy Trinity Church\, Holy Trinity Church\, Minchinhampton\, GL6 9BP
ATTACH;FMTTYPE=image/png:https://minchlife.com/wp-content/uploads/2026/02/IMG_0429.png
END:VEVENT
BEGIN:VEVENT
DTSTART;TZID=UTC:20260318T190000
DTEND;TZID=UTC:20260318T213000
DTSTAMP:20260421T085502
CREATED:20260227T130706Z
LAST-MODIFIED:20260227T154728Z
UID:30727-1773860400-1773869400@minchlife.com
SUMMARY:Minchinhampton and Rodborough Commons' Advisory Committee and National Trust - Spring Event.
DESCRIPTION:Local people with an interest in Stroud’s commons are invited to come along to the Minchinhampton and Rodborough Commons Advisory Committee (MRCAC) spring event on Wed 18 March from 7pm at Rodborough Community Hall\, for an opportunity to hear from guest speakers Prof Chris Short\, Chair of the Foundation for Common Land\, and MRCAC Vice-Chair Dr Sharon Gardham\, as well as meeting representatives of the committee and National Trust team.\n\nMinchinhampton and Rodborough Commons comprise more than 700 acres of open space\, and are recognised as of national and international importance for their limestone grassland. The National Trust has owned and maintained Minchinhampton Common since 1913 and Rodborough Common since 1937 and works to protect the landscape\, ecology and archaeology of the area.\n\nThe Minchinhampton & Rodborough Commons Advisory Committee brings together volunteers\, councillors and other stakeholders who represent communities who enjoy the commons\, working together with the National Trust to protect these important places for the future.\n\nAttendees at the committee’s spring event will feature special talks from Prof Chris Short\, Chair of the Foundation for Common Land and Associate Professor in Environmental Governance at the University of Gloucestershire and Dr Sharon Gardham\, discussing the history of the commons and her PhD thesis Becoming Good Neighbours: How the model of English common land can inspire equitable and sustainable multi-species relationships.\n\nThe evening will also include opportunities to learn more about how to support the work on the commons\, including finding out more about becoming a “Dog Ambassador” volunteer with the National Trust.\n\nThe event is free with limited spaces\, available for pre-booking on the National Trust website here.\n\nRefreshments will be provided.\n\nCeridwen Massey\, Chair of the Minchinhampton and Rodborough Commons Advisory Committee said:\n\n“Minchinhampton and Rodborough Commons are a precious resource\, one of just a handful of areas of common land which have remained unenclosed since the last Ice Age. They are designated as a Site of Special Scientific Interest (SSSI)\, a Special Area of Conservation and a Scheduled Ancient Monument.\n \n“Our committee brings together volunteers and representatives of a range of local organisations\, working together with the National Trust to protect these important natural spaces. We are delighted to be joined by speaker Prof Chris Short\, Chair of the Foundation for Common Land for our spring event\, bringing his valuable insight about environmental governance and common land in general.\n \n“We hope that anyone with an interest in the commons will join us at Rodborough Community Hall for what promises to be a fascinating evening.”\n \nNational Trust Visitor Experience Manager Max Biddlestone said:\n\n“We are delighted to be supporting the Minchinhampton and Rodborough Commons Advisory Committee’s spring event. The committee help to support our management of these important green spaces and keeping us aware of issues affecting the commons.\n \n“The spring event promises to be an interesting exploration of the commons and common land in general\, and a good opportunity for our team to meet people who love the commons and share opportunities to get involved in our work across Minchinhampton and Rodborough Commons.”
URL:https://minchlife.com/event/minchinhampton-and-rodborough-commons-advisory-committee-and-national-trust-spring-event
LOCATION:Rodborough Community Hall\, Butterow West\, Rodborough\, Stroud\, GL5 3TZ\, United Kingdom
END:VEVENT
END:VCALENDAR