BEGIN:VCALENDAR
VERSION:2.0
PRODID:-//Minch Life - ECPv6.8.3//NONSGML v1.0//EN
CALSCALE:GREGORIAN
METHOD:PUBLISH
X-WR-CALNAME:Minch Life
X-ORIGINAL-URL:https://minchlife.com
X-WR-CALDESC:Events for Minch Life
REFRESH-INTERVAL;VALUE=DURATION:PT1H
X-Robots-Tag:noindex
X-PUBLISHED-TTL:PT1H
BEGIN:VTIMEZONE
TZID:UTC
BEGIN:STANDARD
TZOFFSETFROM:+0000
TZOFFSETTO:+0000
TZNAME:UTC
DTSTART:20260101T000000
END:STANDARD
END:VTIMEZONE
BEGIN:VEVENT
DTSTART;TZID=UTC:20260312T100000
DTEND;TZID=UTC:20260312T120000
DTSTAMP:20260421T152049
CREATED:20251230T191127Z
LAST-MODIFIED:20251230T191127Z
UID:29949-1773309600-1773316800@minchlife.com
SUMMARY:Minchinhampton Probus - “Ralph Vaughan-Williams - Composer” - Dr. Tim Brain
DESCRIPTION:Minchinhampton Probus meets fortnightly on the second and fourth Thursday in the Porch Room\, Holy Trinity\, Minchinhampton.  Starts at 10am – with coffee and a catch up with other members.  The meeting comprises a brief business meeting for about 15 minutes then usually a guest speaker. Meeting finishes at noon. \nWe are a very friendly bunch of men from all sorts of backgrounds. The only qualification to join that that you are retired.  The subject of each meeting is as varied as we are! \nWe regularly have visits to local industry and other  social gatherings. \nPotential new members are very welcome to attend.  It would be helpful to know if you are coming!  No jacket required. \nPresident – John Flynn. Speaker Secretary Steve Hoskin  and Secretary John Collinson. \nIf interested\, please contact Steve Hoskin 07511 324088
URL:https://minchlife.com/event/minchinhampton-probus-ralph-vaughan-williams-composer-dr-tim-brain
LOCATION:Porch Room\, Holy Trinity Church\, Holy Trinity Church\, Minchinhampton\, GL6 9BP
ATTACH;FMTTYPE=image/jpeg:https://minchlife.com/wp-content/uploads/2022/01/Probus.jpg
END:VEVENT
BEGIN:VEVENT
DTSTART;TZID=UTC:20260312T193000
DTEND;TZID=UTC:20260312T213000
DTSTAMP:20260421T152049
CREATED:20260206T175300Z
LAST-MODIFIED:20260225T145645Z
UID:30399-1773343800-1773351000@minchlife.com
SUMMARY:Amberley Gardening Club:  Green Corridors
DESCRIPTION:Speaker:  Professor Clive Stainton \nExploring the flora\, and some rare species\, appearing along our railways; not a subject we generally pay much heed to. And for the ferro equinologists amongst you there will doubtless be some talk of trains too. \nFor further details about joining Amberley Gardening Club please contact Christopher Bailey at christo.p.bailey@outlook.com
URL:https://minchlife.com/event/amberley-gardening-club-green-corridors
LOCATION:Amberley Parish Rooms\, Amberley\, GL5 5JG\, United Kingdom
END:VEVENT
END:VCALENDAR