BEGIN:VCALENDAR
VERSION:2.0
PRODID:-//Minch Life - ECPv6.8.3//NONSGML v1.0//EN
CALSCALE:GREGORIAN
METHOD:PUBLISH
X-ORIGINAL-URL:https://minchlife.com
X-WR-CALDESC:Events for Minch Life
REFRESH-INTERVAL;VALUE=DURATION:PT1H
X-Robots-Tag:noindex
X-PUBLISHED-TTL:PT1H
BEGIN:VTIMEZONE
TZID:UTC
BEGIN:STANDARD
TZOFFSETFROM:+0000
TZOFFSETTO:+0000
TZNAME:UTC
DTSTART:20260101T000000
END:STANDARD
END:VTIMEZONE
BEGIN:VEVENT
DTSTART;TZID=UTC:20260309T103000
DTEND;TZID=UTC:20260309T120000
DTSTAMP:20260422T085729
CREATED:20260225T162710Z
LAST-MODIFIED:20260225T163710Z
UID:30691-1773052200-1773057600@minchlife.com
SUMMARY:Poems in the Porch Room
DESCRIPTION:Welcomes all\, but especially people who are living with memory problems. We share poems and reminiscences. Now held on the second Monday of each month For more information please phone Jo Smith 01453 834714
URL:https://minchlife.com/event/poems-in-the-porch-room-48
LOCATION:Porch Room\, Holy Trinity Church\, Holy Trinity Church\, Minchinhampton\, GL6 9BP
ATTACH;FMTTYPE=image/jpeg:https://minchlife.com/wp-content/uploads/2022/09/Poems.jpg
END:VEVENT
BEGIN:VEVENT
DTSTART;TZID=UTC:20260309T123000
DTEND;TZID=UTC:20260309T140000
DTSTAMP:20260422T085729
CREATED:20260211T164028Z
LAST-MODIFIED:20260211T164029Z
UID:30466-1773059400-1773064800@minchlife.com
SUMMARY:Poetry and Words
DESCRIPTION:We meet on the 2nd Monday of every month at the Cotswold Club from 12.30 – 2.00pm. Bring along your favourite poem\, maybe something you have written yourself\, bring a couple of books to swap\, or just come along for a chat. All welcome.
URL:https://minchlife.com/event/poetry-and-words-27
LOCATION:Cotswold Club\, High Street\, Minchinhampton\, GL6 9BN\, United Kingdom
ATTACH;FMTTYPE=image/jpeg:https://minchlife.com/wp-content/uploads/2023/09/Poetry-and-Words.jpg
END:VEVENT
BEGIN:VEVENT
DTSTART;TZID=UTC:20260309T190000
DTEND;TZID=UTC:20260309T213000
DTSTAMP:20260422T085729
CREATED:20260222T121512Z
LAST-MODIFIED:20260222T122055Z
UID:30529-1773082800-1773091800@minchlife.com
SUMMARY:Minchinhampton Parish Council Planning Committee  Meeting
DESCRIPTION:Members of the public wishing to join the meeting should email the clerk to confirm details. Email: clerk@minchinhampton-pc.gov.uk The agenda can be found on the Parish Council website before the meeting: https://www.minchinhampton-pc.gov.uk/council-meetings.html
URL:https://minchlife.com/event/minchinhampton-parish-council-planning-committee-meeting-11
LOCATION:The Trap House\, West End\, Minchinhampton\, GL6 9JA\, United Kingdom
ATTACH;FMTTYPE=image/png:https://minchlife.com/wp-content/uploads/2022/01/MPC-LOGO.png
END:VEVENT
END:VCALENDAR