BEGIN:VCALENDAR
VERSION:2.0
PRODID:-//Minch Life - ECPv6.8.3//NONSGML v1.0//EN
CALSCALE:GREGORIAN
METHOD:PUBLISH
X-ORIGINAL-URL:https://minchlife.com
X-WR-CALDESC:Events for Minch Life
REFRESH-INTERVAL;VALUE=DURATION:PT1H
X-Robots-Tag:noindex
X-PUBLISHED-TTL:PT1H
BEGIN:VTIMEZONE
TZID:UTC
BEGIN:STANDARD
TZOFFSETFROM:+0000
TZOFFSETTO:+0000
TZNAME:UTC
DTSTART:20260101T000000
END:STANDARD
END:VTIMEZONE
BEGIN:VEVENT
DTSTART;TZID=UTC:20260308T113000
DTEND;TZID=UTC:20260308T143000
DTSTAMP:20260421T094800
CREATED:20260221T103557Z
LAST-MODIFIED:20260221T103557Z
UID:30517-1772969400-1772980200@minchlife.com
SUMMARY:Living Wreath Workshop & Lunch
DESCRIPTION:Join us for a relaxed and creative afternoon ahead of Mother’s Day\, set in the cosy surroundings of our Garden Bothy and overlooking the Golden Valley.\nBegin with a guided living wreath workshop\, where you’ll create your own natural wreath using planted bulbs and seasonal greenery. Designed to keep growing\, your wreath can later be planted out into the garden and enjoyed long after the day itself — a beautiful\, living keepsake of spring.\nAfter the workshop\, gather around the table for a main course of our much-loved Sunday roast\, served at an unhurried pace in the manor.\n Living wreath workshop Fireside Bothy setting Main course Sunday roast lunch £80 per person\nA thoughtful\, creative way to celebrate mothers\, friends — or simply a Sunday well spent.\nSpaces are limited. We’d love to welcome you\n\n\n+44(0)1453883804\nreservations@burleighcourtcotswolds.co.uk
URL:https://minchlife.com/event/living-wreath-workshop-lunch
LOCATION:Burleigh Court Hotel\, Burleigh Lane Stroud\, GL5 2PF\, United Kingdom
ATTACH;FMTTYPE=image/jpeg:https://minchlife.com/wp-content/uploads/2026/02/Living-Wreath-Workshop.jpg
END:VEVENT
BEGIN:VEVENT
DTSTART;TZID=UTC:20260308T194500
DTEND;TZID=UTC:20260308T220000
DTSTAMP:20260421T094800
CREATED:20260224T172154Z
LAST-MODIFIED:20260224T172442Z
UID:30576-1772999100-1773007200@minchlife.com
SUMMARY:Arkie's Quiz
DESCRIPTION:Get ready for an unforgettable evening of fun\, laughter\, and friendly competition at Arkie’s quiz nights! \nJoin us for challenging questions\, fantastic prizes\, and a lively atmosphere you won’t want to miss. Gather your friends\, form a team\, and put your knowledge to the test! Mark your calendars and make it a night to remember! \n£4.00 per team of four.
URL:https://minchlife.com/event/arkies-quiz
LOCATION:Cotswold Club\, High Street\, Minchinhampton\, GL6 9BN\, United Kingdom
ATTACH;FMTTYPE=image/webp:https://minchlife.com/wp-content/uploads/2026/02/Quiz-March-26.webp
END:VEVENT
END:VCALENDAR