BEGIN:VCALENDAR
VERSION:2.0
PRODID:-//Minch Life - ECPv6.8.3//NONSGML v1.0//EN
CALSCALE:GREGORIAN
METHOD:PUBLISH
X-ORIGINAL-URL:https://minchlife.com
X-WR-CALDESC:Events for Minch Life
REFRESH-INTERVAL;VALUE=DURATION:PT1H
X-Robots-Tag:noindex
X-PUBLISHED-TTL:PT1H
BEGIN:VTIMEZONE
TZID:UTC
BEGIN:STANDARD
TZOFFSETFROM:+0000
TZOFFSETTO:+0000
TZNAME:UTC
DTSTART:20260101T000000
END:STANDARD
END:VTIMEZONE
BEGIN:VEVENT
DTSTART;TZID=UTC:20260306T183000
DTEND;TZID=UTC:20260306T210000
DTSTAMP:20260423T114548
CREATED:20260224T173834Z
LAST-MODIFIED:20260224T173835Z
UID:30594-1772821800-1772830800@minchlife.com
SUMMARY:Folk Session
DESCRIPTION:Folk Session hosted by Julian. \nJoin us for an unforgettable evening of live music and community at our Folk Session\, where Julian\, a passionate and talented musician\, leads a night of soulful tunes and storytelling. Whether you’re a long-time folk music enthusiast or new to the genre\, this session is the perfect opportunity to immerse yourself in heartfelt melodies and connect with like-minded music lovers.
URL:https://minchlife.com/event/folk-session-4
LOCATION:Cotswold Club\, High Street\, Minchinhampton\, GL6 9BN\, United Kingdom
ATTACH;FMTTYPE=image/webp:https://minchlife.com/wp-content/uploads/2026/01/folk-session-high.webp
END:VEVENT
BEGIN:VEVENT
DTSTART;TZID=UTC:20260306T190000
DTEND;TZID=UTC:20260306T210000
DTSTAMP:20260423T114548
CREATED:20260131T115221Z
LAST-MODIFIED:20260131T115331Z
UID:30300-1772823600-1772830800@minchlife.com
SUMMARY:Sairah Ahmad - Celebrating 1 Year at Minchinhampton Post Office
DESCRIPTION:Hello everyone it’s nearly my 1st year in the Post Office.\nSo on Friday 6th March I’m celebrating so please come join me in Minchinhampton Cotswold Club from 7pm onwards..
URL:https://minchlife.com/event/sairah-ahmad-celebrating-1-year-of-minchinhampton-post-office
LOCATION:Cotswold Club\, High Street\, Minchinhampton\, GL6 9BN\, United Kingdom
END:VEVENT
BEGIN:VEVENT
DTSTART;TZID=UTC:20260306T193000
DTEND;TZID=UTC:20260306T230000
DTSTAMP:20260423T114548
CREATED:20260130T113823Z
LAST-MODIFIED:20260130T113824Z
UID:30183-1772825400-1772838000@minchlife.com
SUMMARY:Dazzles' 80's Party at the Market House\, Minchinhampton.
DESCRIPTION:Get ready to rewind the clock and crank up the fun at Dazzles’ Super Fun 80s party! \nTickets £15.  Ladies only\, over 18s.  Bring your own drinks and snacks.
URL:https://minchlife.com/event/dazzles-80s-party-at-the-market-house-minchinhampton
LOCATION:Minchinhampton Market House\, Market Square\, Minchinhampton\, GL6 9BW\, United Kingdom
ATTACH;FMTTYPE=image/jpeg:https://minchlife.com/wp-content/uploads/2026/01/IMG_0426.jpeg
END:VEVENT
BEGIN:VEVENT
DTSTART;TZID=UTC:20260306T200000
DTEND;TZID=UTC:20260306T220000
DTSTAMP:20260423T114548
CREATED:20260225T141511Z
LAST-MODIFIED:20260225T141611Z
UID:30618-1772827200-1772834400@minchlife.com
SUMMARY:Sanctum:  Lili holland-fricke + The Leaflets
DESCRIPTION:Lili Holland-Fricke is an experimental cellist and songwriter whose work explores the outer edges of her instrument\, weaving introspective\, dreamlike fragments into gently unsettling sonic worlds. She released her debut album ‘dear alien’ – a collaborative project with producer Sean Rogan – with Melodic Records last November\, to widespread critical acclaim. \n‘…an unexpected take on the meeting of improvised sound and avant-songwriting\, buzzing with a quiet energy that both shields the listener from and submerges them in a distinctively contemporary discomfort ‘- The Quietus \n‘Holland-Fricke and Rogan prove to be masters at entertaining the intersection between hope and melancholy\, keeping you guessing with every passing note as each song unfurls with more complexity\, confrontation\, and abstraction than the last ‘- Far Out Magazine \n—- \nNobody knows the true identity of the secretive ‘Leaf’ whose leaflets remain shrouded in mystery and myth. What is known is that their music is terrifying and captivating in equal measure’ a pressure cooker mix of guitar\, industrial acoustic beats\, heady samples\, and something a whole lot stranger. \n  \nThis is an intimate gig with limited spaces.  Bookings online:  https://thelongtablestroud.com/lili-holland-fricke
URL:https://minchlife.com/event/sanctum-lili-holland-fricke-the-leaflets
LOCATION:The Long Table\, Brimscombe Mill\, Stroud\, GL5 2SA\, United Kingdom
ATTACH;FMTTYPE=image/webp:https://minchlife.com/wp-content/uploads/2026/02/Sanctum-The-Leaflets.webp
END:VEVENT
END:VCALENDAR