BEGIN:VCALENDAR
VERSION:2.0
PRODID:-//Minch Life - ECPv6.8.3//NONSGML v1.0//EN
CALSCALE:GREGORIAN
METHOD:PUBLISH
X-WR-CALNAME:Minch Life
X-ORIGINAL-URL:https://minchlife.com
X-WR-CALDESC:Events for Minch Life
REFRESH-INTERVAL;VALUE=DURATION:PT1H
X-Robots-Tag:noindex
X-PUBLISHED-TTL:PT1H
BEGIN:VTIMEZONE
TZID:UTC
BEGIN:STANDARD
TZOFFSETFROM:+0000
TZOFFSETTO:+0000
TZNAME:UTC
DTSTART:20260101T000000
END:STANDARD
END:VTIMEZONE
BEGIN:VEVENT
DTSTART;TZID=UTC:20260303T113000
DTEND;TZID=UTC:20260303T123000
DTSTAMP:20260421T094413
CREATED:20260225T142415Z
LAST-MODIFIED:20260225T142416Z
UID:30626-1772537400-1772541000@minchlife.com
SUMMARY:Kids Stuff Messy Play
DESCRIPTION:Kids Stuff Messy Play is held in the Sanctuary 10.30am – 11.30am every 1st and 3rd Tuesday of the month! \nPlenty of space to explore stuff that is gloopy\, squishy\, wet and gooey! \nDon’t forget to bring a change of clothes (or pick out some spares in our Circular Economy shop!) \n\nView Event →
URL:https://minchlife.com/event/kids-stuff-messy-play
LOCATION:Brimscombe Mill\, Brimscombe\, Stroud\, GL5 2QN\, United Kingdom
ATTACH;FMTTYPE=image/webp:https://minchlife.com/wp-content/uploads/2026/02/Messy-Play.webp
END:VEVENT
BEGIN:VEVENT
DTSTART;TZID=UTC:20260303T143000
DTEND;TZID=UTC:20260303T160000
DTSTAMP:20260421T094413
CREATED:20260205T114539Z
LAST-MODIFIED:20260316T153908Z
UID:30352-1772548200-1772553600@minchlife.com
SUMMARY:Afternoon Fellowship Group - Sportily - at Holy Trinity\, Minchinhampton
DESCRIPTION:Join the Afternoon Fellowship Group\, which this month is welcoming Revd Christian Ackman from Sportily
URL:https://minchlife.com/event/afternoon-fellowship-at-holy-trinity-minchinhampton-3
LOCATION:Holy Trinity Church\, Minchinhampton\, Holy Trinity Church\, Minchinhampton\, GL6 9BW
ATTACH;FMTTYPE=image/png:https://minchlife.com/wp-content/uploads/2026/02/IMG_0428.png
END:VEVENT
END:VCALENDAR