BEGIN:VCALENDAR
VERSION:2.0
PRODID:-//Minch Life - ECPv6.8.3//NONSGML v1.0//EN
CALSCALE:GREGORIAN
METHOD:PUBLISH
X-WR-CALNAME:Minch Life
X-ORIGINAL-URL:https://minchlife.com
X-WR-CALDESC:Events for Minch Life
REFRESH-INTERVAL;VALUE=DURATION:PT1H
X-Robots-Tag:noindex
X-PUBLISHED-TTL:PT1H
BEGIN:VTIMEZONE
TZID:UTC
BEGIN:STANDARD
TZOFFSETFROM:+0000
TZOFFSETTO:+0000
TZNAME:UTC
DTSTART:20250101T000000
END:STANDARD
END:VTIMEZONE
BEGIN:VEVENT
DTSTART;TZID=UTC:20251217T103000
DTEND;TZID=UTC:20251217T120000
DTSTAMP:20260423T130352
CREATED:20251114T152200Z
LAST-MODIFIED:20251128T162254Z
UID:29550-1765967400-1765972800@minchlife.com
SUMMARY:Social Book Club
DESCRIPTION:A relaxing informal book chat over tea and coffee. We normally have a subject or type of book that we discuss. This month’s topic will be “Short Stories” Our group meets on the 3rd Wednesday each month at 10:30. All welcome to come along.
URL:https://minchlife.com/event/social-book-club-34
LOCATION:Minchinhampton Community Library\, School Road\, Minchinhampton\, GL6 9BP\, United Kingdom
ATTACH;FMTTYPE=image/jpeg:https://minchlife.com/wp-content/uploads/2023/02/Bookclub-and-Coffee.jpg
END:VEVENT
BEGIN:VEVENT
DTSTART;TZID=UTC:20251217T160000
DTEND;TZID=UTC:20251217T200000
DTSTAMP:20260423T130352
CREATED:20251211T125614Z
LAST-MODIFIED:20251211T125615Z
UID:29775-1765987200-1766001600@minchlife.com
SUMMARY:Minchinhampton Youth Club Parties
DESCRIPTION:See poster for details/times.
URL:https://minchlife.com/event/minchinhampton-youth-club-parties
LOCATION:The Hub\, Minchinhampton Community Hub\, Tobacconist Road\, Minchinhampton\, GL6 9JJ\, United Kingdom
ATTACH;FMTTYPE=image/jpeg:https://minchlife.com/wp-content/uploads/2025/12/Youth-Club-Parties.jpg
END:VEVENT
BEGIN:VEVENT
DTSTART;TZID=UTC:20251217T190000
DTEND;TZID=UTC:20251217T200000
DTSTAMP:20260423T130352
CREATED:20251021T113633Z
LAST-MODIFIED:20251021T113633Z
UID:29319-1765998000-1766001600@minchlife.com
SUMMARY:Community Choir Carols at the Crown
DESCRIPTION:
URL:https://minchlife.com/event/community-choir-carols-at-the-crown
LOCATION:The Crown Inn\, High Street Minchinhampton\, GL6 9BN\, United Kingdom
END:VEVENT
END:VCALENDAR