BEGIN:VCALENDAR
VERSION:2.0
PRODID:-//Minch Life - ECPv6.8.3//NONSGML v1.0//EN
CALSCALE:GREGORIAN
METHOD:PUBLISH
X-WR-CALNAME:Minch Life
X-ORIGINAL-URL:https://minchlife.com
X-WR-CALDESC:Events for Minch Life
REFRESH-INTERVAL;VALUE=DURATION:PT1H
X-Robots-Tag:noindex
X-PUBLISHED-TTL:PT1H
BEGIN:VTIMEZONE
TZID:UTC
BEGIN:STANDARD
TZOFFSETFROM:+0000
TZOFFSETTO:+0000
TZNAME:UTC
DTSTART:20250101T000000
END:STANDARD
END:VTIMEZONE
BEGIN:VEVENT
DTSTART;TZID=UTC:20251203T143000
DTEND;TZID=UTC:20251203T163000
DTSTAMP:20260421T084036
CREATED:20250220T115132Z
LAST-MODIFIED:20250220T115132Z
UID:26448-1764772200-1764779400@minchlife.com
SUMMARY:WI Meeting - Speaker Fiona Warren  - “Lost the Plot”
DESCRIPTION:Our monthly meetings provide an opportunity for women of all ages to meet together in a friendly\, relaxed and warm atmosphere.\n\nWe spend a little time talking through local and national WI activities that are open to all members.  This is followed by a talk given by a guest speaker on one of a wide range of engaging topics.\n\nRefreshments and an opportunity to get to know each other and make new friends are key parts of every meeting.\n\nYou are welcome to attend some of our meetings as a visitor before joining.\n\nFor more information\, contact Sandy (President) emery31@btinternet.com\nChristina ( Secretary) gooch764@btinternet.com\nJoy (Minch Life liason rep) joyburr005@gmail.com ‘
URL:https://minchlife.com/event/wi-meeting-speaker-fiona-warren-lost-the-plot
LOCATION:Minchinhampton Scout Hut (Coronation Hut)\, 16 Dr Browns Road\, Minchinhampton\, GL6 9BT
ATTACH;FMTTYPE=image/png:https://minchlife.com/wp-content/uploads/2021/09/WI.png
END:VEVENT
BEGIN:VEVENT
DTSTART;TZID=UTC:20251203T180000
DTEND;TZID=UTC:20251203T210000
DTSTAMP:20260421T084036
CREATED:20251021T112905Z
LAST-MODIFIED:20251114T150226Z
UID:29313-1764784800-1764795600@minchlife.com
SUMMARY:Locals’ night at the Crown - Christmas Special
DESCRIPTION:The first Wednesday evening of every month is locals night in the barn. The team at The Crown welcome locals to come down for a special set menu created by our talented head chef Luka. \n2 courses for £30 and 3 courses for £35. Bookings are highly recommended as we expect this to be a popular night.
URL:https://minchlife.com/event/locals-night-at-the-crown-christmas-special
LOCATION:The Crown Inn\, High Street Minchinhampton\, GL6 9BN\, United Kingdom
ATTACH;FMTTYPE=image/jpeg:https://minchlife.com/wp-content/uploads/2024/11/Crown-Wreath-making.jpg
END:VEVENT
END:VCALENDAR