BEGIN:VCALENDAR
VERSION:2.0
PRODID:-//Minch Life - ECPv6.8.3//NONSGML v1.0//EN
CALSCALE:GREGORIAN
METHOD:PUBLISH
X-ORIGINAL-URL:https://minchlife.com
X-WR-CALDESC:Events for Minch Life
REFRESH-INTERVAL;VALUE=DURATION:PT1H
X-Robots-Tag:noindex
X-PUBLISHED-TTL:PT1H
BEGIN:VTIMEZONE
TZID:UTC
BEGIN:STANDARD
TZOFFSETFROM:+0000
TZOFFSETTO:+0000
TZNAME:UTC
DTSTART:20250101T000000
END:STANDARD
END:VTIMEZONE
BEGIN:VEVENT
DTSTART;TZID=UTC:20251202T143000
DTEND;TZID=UTC:20251202T160000
DTSTAMP:20260421T095808
CREATED:20251116T140033Z
LAST-MODIFIED:20251116T140034Z
UID:29590-1764685800-1764691200@minchlife.com
SUMMARY:Afternoon Fellowship Group
DESCRIPTION:See poster for details.
URL:https://minchlife.com/event/afternoon-fellowship-group-5
LOCATION:Porch Room\, Holy Trinity Church\, Holy Trinity Church\, Minchinhampton\, GL6 9BP
ATTACH;FMTTYPE=image/png:https://minchlife.com/wp-content/uploads/2025/11/Afternoon-Fellowship-Dec-2025.png
END:VEVENT
BEGIN:VEVENT
DTSTART;TZID=UTC:20251202T183000
DTEND;TZID=UTC:20251202T193000
DTSTAMP:20260421T095808
CREATED:20251121T101107Z
LAST-MODIFIED:20251121T101729Z
UID:29613-1764700200-1764703800@minchlife.com
SUMMARY:Light up a Life (Longfield Hospice event)
DESCRIPTION:Join us for Light Up a Life\, a beautiful and heartfelt celebration to remember and honour loved ones during the festive season. \nCome together with the Longfield Community at Holy Trinity Church\, Minchinhampton\, for an evening of reflection\, carols and readings by candlelight. It’s a special opportunity to pause\, share memories\, and celebrate the lives of those who are no longer with us. \nAfter the service\, you’re invited to enjoy a mince pie and festive drink. \nEveryone is warmly welcome to attend Light Up A Life\, whether or not your loved one was cared for by Longfield. \nIf you can’t join us in person\, you can still take part by leaving a virtual dedication page. \nAs this is always a popular event\, we kindly ask you to register on our website so we can manage numbers safely. While the event is free to attend\, donations to support Longfield’s Hospice at Home\, Counselling\, Bereavement Support and Wellbeing Services are greatly appreciated. \nhttps://longfield.org.uk/our-event/light-up-a-life/
URL:https://minchlife.com/event/light-up-a-life-longfield-hospice-event
LOCATION:Holy Trinity Church\, Minchinhampton\, Holy Trinity Church\, Minchinhampton\, GL6 9BW
ATTACH;FMTTYPE=image/jpeg:https://minchlife.com/wp-content/uploads/2025/11/Light-up-a-Life25.jpg
END:VEVENT
END:VCALENDAR