BEGIN:VCALENDAR
VERSION:2.0
PRODID:-//Minch Life - ECPv6.8.3//NONSGML v1.0//EN
CALSCALE:GREGORIAN
METHOD:PUBLISH
X-ORIGINAL-URL:https://minchlife.com
X-WR-CALDESC:Events for Minch Life
REFRESH-INTERVAL;VALUE=DURATION:PT1H
X-Robots-Tag:noindex
X-PUBLISHED-TTL:PT1H
BEGIN:VTIMEZONE
TZID:UTC
BEGIN:STANDARD
TZOFFSETFROM:+0000
TZOFFSETTO:+0000
TZNAME:UTC
DTSTART:20250101T000000
END:STANDARD
END:VTIMEZONE
BEGIN:VEVENT
DTSTART;TZID=UTC:20251122T190000
DTEND;TZID=UTC:20251122T190000
DTSTAMP:20260423T113841
CREATED:20250909T102445Z
LAST-MODIFIED:20250909T102445Z
UID:29026-1763838000-1763838000@minchlife.com
SUMMARY:Box Safari Supper
DESCRIPTION:After a break of a few years\, the next Box Village Safari Supper will take place on Saturday\, 22nd November for Box residents in various residences. \nAny questions and further information please contact Ginny vmartin6@aol.com \n(If  you would like to participate please contact Ginny by 24 October.)
URL:https://minchlife.com/event/box-safari-supper
LOCATION:Box Village Hall\, Box\, Stroud\, GL6 9HE\, United Kingdom
END:VEVENT
BEGIN:VEVENT
DTSTART;TZID=UTC:20251122T191500
DTEND;TZID=UTC:20251122T220000
DTSTAMP:20260423T113841
CREATED:20251030T150705Z
LAST-MODIFIED:20251114T153026Z
UID:29394-1763838900-1763848800@minchlife.com
SUMMARY:Wendy's Cash Bingo
DESCRIPTION:Book Sales 7:15\, Eyes Down 7:45 \nMembers and Guests are welcome (Guests must be signed in)
URL:https://minchlife.com/event/wendys-cash-bingo-18
LOCATION:Cotswold Club\, High Street\, Minchinhampton\, GL6 9BN\, United Kingdom
ATTACH;FMTTYPE=image/webp:https://minchlife.com/wp-content/uploads/2025/10/Wendys-Bingo-Nov-25.webp
END:VEVENT
END:VCALENDAR