BEGIN:VCALENDAR
VERSION:2.0
PRODID:-//Minch Life - ECPv6.8.3//NONSGML v1.0//EN
CALSCALE:GREGORIAN
METHOD:PUBLISH
X-WR-CALNAME:Minch Life
X-ORIGINAL-URL:https://minchlife.com
X-WR-CALDESC:Events for Minch Life
REFRESH-INTERVAL;VALUE=DURATION:PT1H
X-Robots-Tag:noindex
X-PUBLISHED-TTL:PT1H
BEGIN:VTIMEZONE
TZID:UTC
BEGIN:STANDARD
TZOFFSETFROM:+0000
TZOFFSETTO:+0000
TZNAME:UTC
DTSTART:20250101T000000
END:STANDARD
END:VTIMEZONE
BEGIN:VEVENT
DTSTART;TZID=UTC:20251117T190000
DTEND;TZID=UTC:20251117T213000
DTSTAMP:20260423T180110
CREATED:20251030T161518Z
LAST-MODIFIED:20251030T161519Z
UID:29429-1763406000-1763415000@minchlife.com
SUMMARY:Minchinhampton Parish Council Finance Committee
DESCRIPTION:Members of the public wishing to join the meeting should email the clerk to confirm details. Email: clerk@minchinhampton-pc.gov.uk The agenda can be found on the Parish Council website before the meeting: https://www.minchinhampton-pc.gov.uk/council-meetings.html
URL:https://minchlife.com/event/minchinhampton-parish-council-finance-committee-19
LOCATION:The Trap House\, West End\, Minchinhampton\, GL6 9JA\, United Kingdom
ATTACH;FMTTYPE=image/png:https://minchlife.com/wp-content/uploads/2022/01/MPC-LOGO.png
END:VEVENT
BEGIN:VEVENT
DTSTART;TZID=UTC:20251117T193000
DTEND;TZID=UTC:20251117T213000
DTSTAMP:20260423T180110
CREATED:20250426T141608Z
LAST-MODIFIED:20251009T110029Z
UID:27792-1763407800-1763415000@minchlife.com
SUMMARY:Minchinhampton Gardening Club:  Dig for Victory
DESCRIPTION:  \n  \nMinchinhampton Gardening Club – this month’s speaker is Fiona Warin with her talk ‘Dig for Victory’\, a fascinating tale of how everyone was encouraged to grow their own food during WWII. Members and guests welcome at the School Hall Monday 20th October starting 7:30pm.\n  \nFor further information please contact:  John Goodwin at\njohngoodwin99@outlook.com \nMembers:  Free \nGuests:  £3.00
URL:https://minchlife.com/event/minchinhampton-gardening-club-dig-for-victory
LOCATION:Minchinhampton School (C of E Primary Academy)\, School Road\, Minchinhampton\, GL6 9BP\, United Kingdom
END:VEVENT
END:VCALENDAR