BEGIN:VCALENDAR
VERSION:2.0
PRODID:-//Minch Life - ECPv6.8.3//NONSGML v1.0//EN
CALSCALE:GREGORIAN
METHOD:PUBLISH
X-ORIGINAL-URL:https://minchlife.com
X-WR-CALDESC:Events for Minch Life
REFRESH-INTERVAL;VALUE=DURATION:PT1H
X-Robots-Tag:noindex
X-PUBLISHED-TTL:PT1H
BEGIN:VTIMEZONE
TZID:UTC
BEGIN:STANDARD
TZOFFSETFROM:+0000
TZOFFSETTO:+0000
TZNAME:UTC
DTSTART:20250101T000000
END:STANDARD
END:VTIMEZONE
BEGIN:VEVENT
DTSTART;TZID=UTC:20251113T100000
DTEND;TZID=UTC:20251113T120000
DTSTAMP:20260423T114903
CREATED:20250802T124605Z
LAST-MODIFIED:20250802T124605Z
UID:28489-1763028000-1763035200@minchlife.com
SUMMARY:Minchinhampton Probus “The Schneider Trophy”. Speaker Robert Toseland.
DESCRIPTION:Minchinhampton Probus meets fortnightly on the second and fourth Thursday in the Porch Room\, Holy Trinity\, Minchinhampton.  Starts at 10am – with coffee and a catch up with other members.  The meeting comprises a brief business meeting for about 15 minutes then usually a guest speaker. Meeting finishes at noon. \nWe are a very friendly bunch of men from all sorts of backgrounds. The only qualification to join that that you are retired.  The subject of each meeting is as varied as we are! \nWe regularly have visits to local industry and other  social gatherings. \nPotential new members are very welcome to attend.  It would be helpful to know if you are coming!  No jacket required. \nPresident – John Flynn. Speaker Secretary Steve Hoskin  and Secretary John Collinson. \nIf interested\, please contact Steve Hoskin 07511 324088
URL:https://minchlife.com/event/minchinhampton-probus-the-schneider-trophy-speaker-robert-toseland
LOCATION:Porch Room\, Holy Trinity Church\, Holy Trinity Church\, Minchinhampton\, GL6 9BP
ATTACH;FMTTYPE=image/jpeg:https://minchlife.com/wp-content/uploads/2023/09/Probus.jpg
END:VEVENT
BEGIN:VEVENT
DTSTART;TZID=UTC:20251113T183000
DTEND;TZID=UTC:20251113T230000
DTSTAMP:20260423T114903
CREATED:20250901T112218Z
LAST-MODIFIED:20250901T112218Z
UID:28931-1763058600-1763074800@minchlife.com
SUMMARY:Game Supper Club & Butchery Demonstration at the Crown
DESCRIPTION:Join us for an exciting evening of culinary exploring. Our game night supper club will not only offer a unique experience but will also include a presentation of butchery masterclass\, Watch the art of preparing game meats followed by a 5 course meal created and prepared by our talented chefs.
URL:https://minchlife.com/event/game-supper-club-butchery-demonstration-at-the-crown
ATTACH;FMTTYPE=image/jpeg:https://minchlife.com/wp-content/uploads/2025/08/TheCrown_logo.jpg
END:VEVENT
BEGIN:VEVENT
DTSTART;TZID=UTC:20251113T193000
DTEND;TZID=UTC:20251113T213000
DTSTAMP:20260423T114903
CREATED:20250916T104738Z
LAST-MODIFIED:20250916T104905Z
UID:29066-1763062200-1763069400@minchlife.com
SUMMARY:Amberley Gardening Club: Tree Planting and Other Topical Tree Facts
DESCRIPTION:Speaker:  Nick Organ \nGuests welcome. \nFor further details about joining Amberley Gardening Club please contact Christopher Bailey at christo.p.bailey@outlook.com
URL:https://minchlife.com/event/amberley-gardening-club-tree-planting-and-other-topical-tree-facts
LOCATION:Amberley Parish Rooms\, Amberley\, GL5 5JG\, United Kingdom
END:VEVENT
END:VCALENDAR