BEGIN:VCALENDAR
VERSION:2.0
PRODID:-//Minch Life - ECPv6.8.3//NONSGML v1.0//EN
CALSCALE:GREGORIAN
METHOD:PUBLISH
X-ORIGINAL-URL:https://minchlife.com
X-WR-CALDESC:Events for Minch Life
REFRESH-INTERVAL;VALUE=DURATION:PT1H
X-Robots-Tag:noindex
X-PUBLISHED-TTL:PT1H
BEGIN:VTIMEZONE
TZID:UTC
BEGIN:STANDARD
TZOFFSETFROM:+0000
TZOFFSETTO:+0000
TZNAME:UTC
DTSTART:20250101T000000
END:STANDARD
END:VTIMEZONE
BEGIN:VEVENT
DTSTART;TZID=UTC:20251018T110000
DTEND;TZID=UTC:20251026T170000
DTSTAMP:20260421T153841
CREATED:20250928T141004Z
LAST-MODIFIED:20250928T141028Z
UID:29203-1760785200-1761498000@minchlife.com
SUMMARY:Cotswold Sculptors Indoor Exhibition
DESCRIPTION:As part of this year’s Autumn Trail\, the Cotswold Sculptors Association invite visitors to a special exhibition to be held Saturday 18th October-Sunday 26th October inclusive (CLOSED MONDAYS) \nYou’ll be able to explore a wonderful variety of sculptures from 48 of our member-artists\, working in a range of mediums such as bronze\, ceramics\, stone\, wood\, metal and found materials. Some focus on figurative subjects such as people\, animals and nature\, whilst other pieces are more abstract. \nThe exhibition is free to enjoy and you’ll be able to buy refreshments on site from the Long Table. There is parking on site but please use public transport or lift sharing\, if you can. Kids are very welcome but there will be delicate works on show so please help them take care. \nSpecial demo day: Saturday 25th October \nVisit on this day to see and interact with some of our artists whose work is featured in the exhibition. \nMany sculptures will be available to buy either as unique pieces or limited special editions. 15% of sales go to The Long Table. \nThe Cotswold Sculptors are a not-for-profit collective of mainly local artists\, coming together to share our passion for sculpture. Visit their website at www.cotswoldsculptorsasssociation.com
URL:https://minchlife.com/event/cotswold-sculptors-indoor-exhibition
LOCATION:The Long Table\, Brimscombe Mill\, Stroud\, GL5 2SA\, United Kingdom
ATTACH;FMTTYPE=image/webp:https://minchlife.com/wp-content/uploads/2025/09/Cotswold-Sculptors.webp
END:VEVENT
BEGIN:VEVENT
DTSTART;TZID=UTC:20251023T100000
DTEND;TZID=UTC:20251023T120000
DTSTAMP:20260421T153841
CREATED:20250802T124401Z
LAST-MODIFIED:20250802T124401Z
UID:28487-1761213600-1761220800@minchlife.com
SUMMARY:Minchinhampton Probus - Landmark!  100th meeting
DESCRIPTION:Minchinhampton Probus meets fortnightly on the second and fourth Thursday in the Porch Room\, Holy Trinity\, Minchinhampton.  Starts at 10am – with coffee and a catch up with other members.  The meeting comprises a brief business meeting for about 15 minutes then usually a guest speaker. Meeting finishes at noon. \nWe are a very friendly bunch of men from all sorts of backgrounds. The only qualification to join that that you are retired.  The subject of each meeting is as varied as we are! \nWe regularly have visits to local industry and other  social gatherings. \nPotential new members are very welcome to attend.  It would be helpful to know if you are coming!  No jacket required. \nPresident – John Flynn. Speaker Secretary Steve Hoskin  and Secretary John Collinson. \nIf interested\, please contact Steve Hoskin 07511 324088
URL:https://minchlife.com/event/minchinhampton-probus-landmark-100th-meeting
LOCATION:Porch Room\, Holy Trinity Church\, Holy Trinity Church\, Minchinhampton\, GL6 9BP
ATTACH;FMTTYPE=image/jpeg:https://minchlife.com/wp-content/uploads/2022/01/Probus.jpg
END:VEVENT
END:VCALENDAR