BEGIN:VCALENDAR
VERSION:2.0
PRODID:-//Minch Life - ECPv6.8.3//NONSGML v1.0//EN
CALSCALE:GREGORIAN
METHOD:PUBLISH
X-ORIGINAL-URL:https://minchlife.com
X-WR-CALDESC:Events for Minch Life
REFRESH-INTERVAL;VALUE=DURATION:PT1H
X-Robots-Tag:noindex
X-PUBLISHED-TTL:PT1H
BEGIN:VTIMEZONE
TZID:UTC
BEGIN:STANDARD
TZOFFSETFROM:+0000
TZOFFSETTO:+0000
TZNAME:UTC
DTSTART:20250101T000000
END:STANDARD
END:VTIMEZONE
BEGIN:VEVENT
DTSTART;TZID=UTC:20251001T143000
DTEND;TZID=UTC:20251001T163000
DTSTAMP:20260421T145122
CREATED:20250220T114804Z
LAST-MODIFIED:20250220T114805Z
UID:26444-1759329000-1759336200@minchlife.com
SUMMARY:W.I. Meeting - Speaker Paul Verney “Old Sewing Machines”
DESCRIPTION:Our monthly meetings provide an opportunity for women of all ages to meet together in a friendly\, relaxed and warm atmosphere.\n\nWe spend a little time talking through local and national WI activities that are open to all members.  This is followed by a talk given by a guest speaker on one of a wide range of engaging topics.\n\nRefreshments and an opportunity to get to know each other and make new friends are key parts of every meeting.\n\nYou are welcome to attend some of our meetings as a visitor before joining.\n\nFor more information\, contact Sandy (President) emery31@btinternet.com\nChristina ( Secretary) gooch764@btinternet.com\nJoy (Minch Life liason rep) joyburr005@gmail.com ‘
URL:https://minchlife.com/event/w-i-meeting-speaker-paul-verney-old-sewing-machines
LOCATION:Minchinhampton Scout Hut (Coronation Hut)\, 16 Dr Browns Road\, Minchinhampton\, GL6 9BT
ATTACH;FMTTYPE=image/png:https://minchlife.com/wp-content/uploads/2021/09/WI.png
END:VEVENT
BEGIN:VEVENT
DTSTART;TZID=UTC:20251001T180000
DTEND;TZID=UTC:20251001T210000
DTSTAMP:20260421T145122
CREATED:20250916T110106Z
LAST-MODIFIED:20250916T110107Z
UID:29074-1759341600-1759352400@minchlife.com
SUMMARY:Locals Night at the Crown
DESCRIPTION:The first Wednesday evening of every month is locals night in the barn. The team at The Crown welcome locals to come down for a special set menu created by our talented head chef Luka. 2 courses for £20 and 3 courses for £25. Bookings are highly recommended as we expect this to be a popular night.
URL:https://minchlife.com/event/locals-night-at-the-crown-14
LOCATION:The Crown Inn\, High Street Minchinhampton\, GL6 9BN\, United Kingdom
ATTACH;FMTTYPE=image/jpeg:https://minchlife.com/wp-content/uploads/2024/06/Locals-Night.jpg
END:VEVENT
END:VCALENDAR