BEGIN:VCALENDAR
VERSION:2.0
PRODID:-//Minch Life - ECPv6.8.3//NONSGML v1.0//EN
CALSCALE:GREGORIAN
METHOD:PUBLISH
X-ORIGINAL-URL:https://minchlife.com
X-WR-CALDESC:Events for Minch Life
REFRESH-INTERVAL;VALUE=DURATION:PT1H
X-Robots-Tag:noindex
X-PUBLISHED-TTL:PT1H
BEGIN:VTIMEZONE
TZID:UTC
BEGIN:STANDARD
TZOFFSETFROM:+0000
TZOFFSETTO:+0000
TZNAME:UTC
DTSTART:20250101T000000
END:STANDARD
END:VTIMEZONE
BEGIN:VEVENT
DTSTART;TZID=UTC:20250909T101500
DTEND;TZID=UTC:20250909T121500
DTSTAMP:20260421T133118
CREATED:20250831T100123Z
LAST-MODIFIED:20250831T100123Z
UID:28877-1757412900-1757420100@minchlife.com
SUMMARY:Scrabble Group
DESCRIPTION:Newcomers welcome. \nFor everyone who enjoys a good board game.
URL:https://minchlife.com/event/scrabble-group-4
LOCATION:Minchinhampton Community Library\, School Road\, Minchinhampton\, GL6 9BP\, United Kingdom
ATTACH;FMTTYPE=image/jpeg:https://minchlife.com/wp-content/uploads/2025/06/Scrabble-Library-.jpg
END:VEVENT
END:VCALENDAR