BEGIN:VCALENDAR
VERSION:2.0
PRODID:-//Minch Life - ECPv6.8.3//NONSGML v1.0//EN
CALSCALE:GREGORIAN
METHOD:PUBLISH
X-WR-CALNAME:Minch Life
X-ORIGINAL-URL:https://minchlife.com
X-WR-CALDESC:Events for Minch Life
REFRESH-INTERVAL;VALUE=DURATION:PT1H
X-Robots-Tag:noindex
X-PUBLISHED-TTL:PT1H
BEGIN:VTIMEZONE
TZID:UTC
BEGIN:STANDARD
TZOFFSETFROM:+0000
TZOFFSETTO:+0000
TZNAME:UTC
DTSTART:20250101T000000
END:STANDARD
END:VTIMEZONE
BEGIN:VEVENT
DTSTART;TZID=UTC:20250905T063000
DTEND;TZID=UTC:20250905T210000
DTSTAMP:20260421T132716
CREATED:20250830T154602Z
LAST-MODIFIED:20250830T154716Z
UID:28812-1757053800-1757106000@minchlife.com
SUMMARY:Box Bar
DESCRIPTION:Box Bar continues to lubricate the village on the first and third Friday of every month.  It is well supported and has become a very enjoyable social hub for the village. \nIt serves wine\, prosecco\, gin and tonic\, organic cider\, organic lager and beers from Stroud brewery\, plus a selection of soft drinks.  The draft organic pale ale on sale is now gluten free. \nThe bar has a card reader\, so you don’t need to bring cash.  The profits from the bar help to fund the Village Hall.
URL:https://minchlife.com/event/box-bar-56
LOCATION:Box Village Hall\, Box\, Stroud\, GL6 9HE\, United Kingdom
END:VEVENT
BEGIN:VEVENT
DTSTART;TZID=UTC:20250905T100000
DTEND;TZID=UTC:20250905T123000
DTSTAMP:20260421T132716
CREATED:20250628T135805Z
LAST-MODIFIED:20250628T135805Z
UID:28346-1757066400-1757075400@minchlife.com
SUMMARY:Free Digital Support: Personalised 1-2-1 Appointments with Digi-champion
DESCRIPTION:
URL:https://minchlife.com/event/free-digital-support-personalised-1-2-1-appointments-with-digi-champion-10
LOCATION:Minchinhampton Community Library\, School Road\, Minchinhampton\, GL6 9BP\, United Kingdom
ATTACH;FMTTYPE=image/jpeg:https://minchlife.com/wp-content/uploads/2025/06/Digi-poster-julysep-25.jpg
END:VEVENT
BEGIN:VEVENT
DTSTART;TZID=UTC:20250905T143000
DTEND;TZID=UTC:20250905T163000
DTSTAMP:20260421T132716
CREATED:20250904T130820Z
LAST-MODIFIED:20250904T130821Z
UID:28942-1757082600-1757089800@minchlife.com
SUMMARY:Tea and Cake in the Garden of 12 High Street (in aid of Royal British Legion)
DESCRIPTION:See poster for more information.
URL:https://minchlife.com/event/tea-and-cake-in-the-garden-of-12-high-street-in-aid-of-royal-british-legion
LOCATION:12 High Street\, Minchinhampton\, GL6 9BN\, United Kingdom
ATTACH;FMTTYPE=image/jpeg:https://minchlife.com/wp-content/uploads/2025/09/Sept-25-rotated.jpg
END:VEVENT
BEGIN:VEVENT
DTSTART;TZID=UTC:20250905T183000
DTEND;TZID=UTC:20250905T210000
DTSTAMP:20260421T132716
CREATED:20250907T083643Z
LAST-MODIFIED:20250907T083643Z
UID:28986-1757097000-1757106000@minchlife.com
SUMMARY:Cotswold Sessions
DESCRIPTION:
URL:https://minchlife.com/event/cotswold-sessions-5
LOCATION:Cotswold Club\, High Street\, Minchinhampton\, GL6 9BN\, United Kingdom
ATTACH;FMTTYPE=image/jpeg:https://minchlife.com/wp-content/uploads/2025/09/Cotswold-Sessions.jpg
END:VEVENT
END:VCALENDAR