BEGIN:VCALENDAR
VERSION:2.0
PRODID:-//Minch Life - ECPv6.8.3//NONSGML v1.0//EN
CALSCALE:GREGORIAN
METHOD:PUBLISH
X-WR-CALNAME:Minch Life
X-ORIGINAL-URL:https://minchlife.com
X-WR-CALDESC:Events for Minch Life
REFRESH-INTERVAL;VALUE=DURATION:PT1H
X-Robots-Tag:noindex
X-PUBLISHED-TTL:PT1H
BEGIN:VTIMEZONE
TZID:UTC
BEGIN:STANDARD
TZOFFSETFROM:+0000
TZOFFSETTO:+0000
TZNAME:UTC
DTSTART:20250101T000000
END:STANDARD
END:VTIMEZONE
BEGIN:VEVENT
DTSTART;TZID=UTC:20250826T090000
DTEND;TZID=UTC:20250827T151500
DTSTAMP:20260423T101256
CREATED:20250707T125506Z
LAST-MODIFIED:20250707T131941Z
UID:28393-1756198800-1756307700@minchlife.com
SUMMARY:2-day Drama Workshop for kids age 7-13
DESCRIPTION:See poster for details.
URL:https://minchlife.com/event/2-day-drama-workshop-for-kids-age-7-13
LOCATION:Box Village Hall\, Box\, Stroud\, GL6 9HE\, United Kingdom
ATTACH;FMTTYPE=image/jpeg:https://minchlife.com/wp-content/uploads/2025/07/drama-workshop-scaled.jpg
END:VEVENT
END:VCALENDAR