BEGIN:VCALENDAR
VERSION:2.0
PRODID:-//Minch Life - ECPv6.8.3//NONSGML v1.0//EN
CALSCALE:GREGORIAN
METHOD:PUBLISH
X-WR-CALNAME:Minch Life
X-ORIGINAL-URL:https://minchlife.com
X-WR-CALDESC:Events for Minch Life
REFRESH-INTERVAL;VALUE=DURATION:PT1H
X-Robots-Tag:noindex
X-PUBLISHED-TTL:PT1H
BEGIN:VTIMEZONE
TZID:UTC
BEGIN:STANDARD
TZOFFSETFROM:+0000
TZOFFSETTO:+0000
TZNAME:UTC
DTSTART:20250101T000000
END:STANDARD
END:VTIMEZONE
BEGIN:VEVENT
DTSTART;VALUE=DATE:20250807
DTEND;VALUE=DATE:20250819
DTSTAMP:20260423T180115
CREATED:20250114T180051Z
LAST-MODIFIED:20250114T180051Z
UID:25832-1754524800-1755561599@minchlife.com
SUMMARY:Giffords Circus in Minchinhampton
DESCRIPTION:Our 2025 LAGUNA BAY postal mailer is out now!  \nCreated by our talented Head of Art Joe Avery\, the stunning artwork captures the fun\, joy and energy of this year’s show perfectly. \nTickets are selling fast for what promises to be Giffords Circus’ biggest and best show to date. \nJoin us for our 25th Anniversary with daring acts\, charming storytelling and well known hits where you can be totally immersed in the perfect setting with your loved ones. \nWe cannot WAIT to show you what we are working on\, book your tickets now!
URL:https://minchlife.com/event/giffords-circus-in-minchinhampton-4
LOCATION:Minchinhampton Common\, United Kingdom
ATTACH;FMTTYPE=image/jpeg:https://minchlife.com/wp-content/uploads/2025/01/IMG_0506.jpeg
END:VEVENT
BEGIN:VEVENT
DTSTART;TZID=UTC:20250814T100000
DTEND;TZID=UTC:20250814T120000
DTSTAMP:20260423T180115
CREATED:20250729T162108Z
LAST-MODIFIED:20250729T162639Z
UID:28452-1755165600-1755172800@minchlife.com
SUMMARY:Minchinhampton Probus  “The Reluctant Clown” -Les Dawson -  speaker Steve Hoskin.
DESCRIPTION:Minchinhampton Probus meets fortnightly on the second and fourth Thursday in the Porch Room\, Holy Trinity\, Minchinhampton.  Starts at 10am – with coffee and a catch up with other members.  The meeting comprises a brief business meeting for about 15 minutes then usually a guest speaker. Meeting finishes at noon. \nWe are a very friendly bunch of men from all sorts of backgrounds. The only qualification to join that that you are retired.  The subject of each meeting is as varied as we are! \nWe regularly have visits to local industry and other  social gatherings. \nPotential new members are very welcome to attend.  It would be helpful to know if you are coming!  No jacket required. \nPresident – John Flynn. Speaker Secretary Steve Hoskin  and Secretary John Collinson. \nIf interested\, please contact Steve Hoskin 07511 324088
URL:https://minchlife.com/event/minchinhampton-probus-the-reluctant-clown-speaker-steve-hoskin
LOCATION:Porch Room\, Holy Trinity Church\, Holy Trinity Church\, Minchinhampton\, GL6 9BP
ATTACH;FMTTYPE=image/jpeg:https://minchlife.com/wp-content/uploads/2023/09/Probus.jpg
END:VEVENT
BEGIN:VEVENT
DTSTART;TZID=UTC:20250814T140000
DTEND;TZID=UTC:20250814T160000
DTSTAMP:20260423T180115
CREATED:20250627T153319Z
LAST-MODIFIED:20250627T172852Z
UID:28287-1755180000-1755187200@minchlife.com
SUMMARY:Summer Craft Session for children aged 3+
DESCRIPTION:Activities suitable for children aged 3+. \nNo need to book\, just turn up.  Free. \nChildren to be accompanied by an adult.
URL:https://minchlife.com/event/summer-craft-session-for-children-aged-3-4
LOCATION:Minchinhampton Community Library\, School Road\, Minchinhampton\, GL6 9BP\, United Kingdom
ATTACH;FMTTYPE=image/jpeg:https://minchlife.com/wp-content/uploads/2025/06/Summer-Craft-25-scaled.jpg
END:VEVENT
BEGIN:VEVENT
DTSTART;TZID=UTC:20250814T193000
DTEND;TZID=UTC:20250814T220000
DTSTAMP:20260423T180115
CREATED:20250611T144332Z
LAST-MODIFIED:20250621T162851Z
UID:28138-1755199800-1755208800@minchlife.com
SUMMARY:Cantemus Chamber Choir Concert
DESCRIPTION:Tickets£10 on door.  An evening of choral classics.
URL:https://minchlife.com/event/cantemus-chamber-choir-concert-2
LOCATION:Holy Trinity Church\, Minchinhampton\, Holy Trinity Church\, Minchinhampton\, GL6 9BW
ATTACH;FMTTYPE=image/jpeg:https://minchlife.com/wp-content/uploads/2025/06/IMG_0361.jpeg
END:VEVENT
BEGIN:VEVENT
DTSTART;TZID=UTC:20250814T194500
DTEND;TZID=UTC:20250814T220000
DTSTAMP:20260423T180115
CREATED:20250802T130900Z
LAST-MODIFIED:20250808T104320Z
UID:28504-1755200700-1755208800@minchlife.com
SUMMARY:Minchinhamton Folk Club - Guest night featuring Penny Grennan
DESCRIPTION:Penny plays guitar\, uses and banjo and favours folk\, blues\, jazz and Americana as well as bluegrass and traditional songs.  Floor spots too. Music starts at 7.45pm
URL:https://minchlife.com/event/minchinhamton-folk-club-guest-night-featuring-penny-grennan
LOCATION:Cotswold Club\, High Street\, Minchinhampton\, GL6 9BN\, United Kingdom
ATTACH;FMTTYPE=image/jpeg:https://minchlife.com/wp-content/uploads/2025/08/IMG_0665.jpeg
END:VEVENT
END:VCALENDAR