BEGIN:VCALENDAR
VERSION:2.0
PRODID:-//Minch Life - ECPv6.8.3//NONSGML v1.0//EN
CALSCALE:GREGORIAN
METHOD:PUBLISH
X-ORIGINAL-URL:https://minchlife.com
X-WR-CALDESC:Events for Minch Life
REFRESH-INTERVAL;VALUE=DURATION:PT1H
X-Robots-Tag:noindex
X-PUBLISHED-TTL:PT1H
BEGIN:VTIMEZONE
TZID:UTC
BEGIN:STANDARD
TZOFFSETFROM:+0000
TZOFFSETTO:+0000
TZNAME:UTC
DTSTART:20250101T000000
END:STANDARD
END:VTIMEZONE
BEGIN:VEVENT
DTSTART;VALUE=DATE:20250807
DTEND;VALUE=DATE:20250819
DTSTAMP:20260421T113942
CREATED:20250114T180051Z
LAST-MODIFIED:20250114T180051Z
UID:25832-1754524800-1755561599@minchlife.com
SUMMARY:Giffords Circus in Minchinhampton
DESCRIPTION:Our 2025 LAGUNA BAY postal mailer is out now!  \nCreated by our talented Head of Art Joe Avery\, the stunning artwork captures the fun\, joy and energy of this year’s show perfectly. \nTickets are selling fast for what promises to be Giffords Circus’ biggest and best show to date. \nJoin us for our 25th Anniversary with daring acts\, charming storytelling and well known hits where you can be totally immersed in the perfect setting with your loved ones. \nWe cannot WAIT to show you what we are working on\, book your tickets now!
URL:https://minchlife.com/event/giffords-circus-in-minchinhampton-4
LOCATION:Minchinhampton Common\, United Kingdom
ATTACH;FMTTYPE=image/jpeg:https://minchlife.com/wp-content/uploads/2025/01/IMG_0506.jpeg
END:VEVENT
BEGIN:VEVENT
DTSTART;TZID=UTC:20250807T083000
DTEND;TZID=UTC:20250807T170000
DTSTAMP:20260421T113942
CREATED:20250604T111553Z
LAST-MODIFIED:20250611T145334Z
UID:28054-1754555400-1754586000@minchlife.com
SUMMARY:Coach Trip to Kew Gardens\, Richmond with Ian and Katie Jarvis.
DESCRIPTION:Coach £32 (inc ULEZ)\, Entrance £19 (Total £51) per person \nJoin the Kew!  Because we’re off to this UNESCO World Heritage Site\, where more than 50\,000 plants flourish. (Unlike our kitchen\, where plants seem to lose the will the minute they arrive.)  It sounds a bit of a cliché\, but it really isn’t: there’s something for everyone! \nThere’s the Temperate House\, the world’s largest Victorian glasshouse\, filled with rare and threatened plants. (Again\, they ought to see our kitchen.) This is home to 1\,200 species from Asia\, Australasia\, the Americas and Africa — and amongst those are specimens from some of the most remote locations on Earth: Saint Helena\, the Pitcairn Islands and Juan Fernández Islands. \nHere you’ll see some of the amazing work that Kew does\, rescuing plants that are not only rare but\, in some cases\, extinct in the wild.  The Princess of Wales Conservatory is dedicated to dry tropical environments\, featuring orchids\, succulents\, cacti\, and other plants from arid regions.  Surrounding the greenhouses is the arboretum\, with 11\,000 trees\, including ones as old as the gardens themselves; many can’t be found anywhere else in the country. Then there’s the rock garden\, mimicking the world’s mountainous regions\, with sandstone peaks and cascading waterfalls. \nAnd plenty more! \nThis summer on our trip\, you’ll see the fabulous Rose Garden blooming — 170 species and cultivars; as well as the Vegetable Garden\, selling some of its delicious produce. \nThere’s a great variety of places to eat\, with local food and produce foraged from the gardens; \n0850h Begin pickups \n1045h Comfort stop 10mins \n1130h Kew Gardens \n1530h Leave for home
URL:https://minchlife.com/event/coach-trip-to-kew-gardens-richmond-with-ian-and-katie-jarvis
ATTACH;FMTTYPE=image/png:https://minchlife.com/wp-content/uploads/2025/06/Kew.png
END:VEVENT
BEGIN:VEVENT
DTSTART;TZID=UTC:20250807T103000
DTEND;TZID=UTC:20250807T120000
DTSTAMP:20260421T113942
CREATED:20250627T154942Z
LAST-MODIFIED:20250627T154942Z
UID:28301-1754562600-1754568000@minchlife.com
SUMMARY:Hampton Probus:  What's New in Breast Cancer?
DESCRIPTION:Speaker:  Dr Sarah Vestey \nMembers with guests by Invitation. \nFor further information contact: webmaster@hamptonprobus.co.uk
URL:https://minchlife.com/event/hampton-probus-whats-new-in-breast-cancer
LOCATION:Cotswold Club\, High Street\, Minchinhampton\, GL6 9BN\, United Kingdom
ATTACH;FMTTYPE=image/jpeg:https://minchlife.com/wp-content/uploads/2023/09/Probus.jpg
END:VEVENT
BEGIN:VEVENT
DTSTART;TZID=UTC:20250807T150000
DTEND;TZID=UTC:20250807T153000
DTSTAMP:20260421T113942
CREATED:20250708T161837Z
LAST-MODIFIED:20250708T161837Z
UID:28412-1754578800-1754580600@minchlife.com
SUMMARY:Croc n Roll at Minchinhampton Library
DESCRIPTION:Suitable for toddlers & pre-schoolers \nFree Event.
URL:https://minchlife.com/event/croc-n-roll-at-minchinhampton-library
LOCATION:Minchinhampton Community Library\, School Road\, Minchinhampton\, GL6 9BP\, United Kingdom
END:VEVENT
END:VCALENDAR