BEGIN:VCALENDAR
VERSION:2.0
PRODID:-//Minch Life - ECPv6.8.3//NONSGML v1.0//EN
CALSCALE:GREGORIAN
METHOD:PUBLISH
X-WR-CALNAME:Minch Life
X-ORIGINAL-URL:https://minchlife.com
X-WR-CALDESC:Events for Minch Life
REFRESH-INTERVAL;VALUE=DURATION:PT1H
X-Robots-Tag:noindex
X-PUBLISHED-TTL:PT1H
BEGIN:VTIMEZONE
TZID:UTC
BEGIN:STANDARD
TZOFFSETFROM:+0000
TZOFFSETTO:+0000
TZNAME:UTC
DTSTART:20250101T000000
END:STANDARD
END:VTIMEZONE
BEGIN:VEVENT
DTSTART;TZID=UTC:20250701T170000
DTEND;TZID=UTC:20250731T180000
DTSTAMP:20260420T121540
CREATED:20250627T163800Z
LAST-MODIFIED:20250627T163800Z
UID:28325-1751389200-1753984800@minchlife.com
SUMMARY:The Sanctuary Series : Emma Pinchbeck & Juliet Davenport
DESCRIPTION:The Sanctuary Series is a new programme of talks\, sparking conversations that will explore the most pressing issues of our time. Hosted at Brimscombe Mill\, the series brings together visionary thinkers\, change makers\, and creatives to spark dialogue and inspire action on themes of economic justice\, sustainability\, community\, and the arts. \nTwo leading voices in the UK’s energy and climate space join the Sanctuary Series to discuss the real-world challenges of reaching net zero. From policy to the role of innovation\, they’ll explore what it truly takes to create a just and sustainable transition for people and planet. \nCheck the website for more details:  https://thelongtablestroud.com/events
URL:https://minchlife.com/event/the-sanctuary-series-emma-pinchbeck-juliet-davenport
LOCATION:The Long Table\, Brimscombe Mill\, Stroud\, GL5 2SA\, United Kingdom
END:VEVENT
BEGIN:VEVENT
DTSTART;TZID=UTC:20250714T103000
DTEND;TZID=UTC:20250714T120000
DTSTAMP:20260420T121540
CREATED:20250626T154701Z
LAST-MODIFIED:20250626T154832Z
UID:28224-1752489000-1752494400@minchlife.com
SUMMARY:Poems in the Porch Room
DESCRIPTION:Welcomes all\, but especially people who are living with memory problems. We share poems and reminiscences. Now held on the second Monday of each month For more information please phone Jo Smith 01453 834714
URL:https://minchlife.com/event/poems-in-the-porch-room-42
LOCATION:Porch Room\, Holy Trinity Church\, Holy Trinity Church\, Minchinhampton\, GL6 9BP
ATTACH;FMTTYPE=image/jpeg:https://minchlife.com/wp-content/uploads/2022/09/Poems.jpg
END:VEVENT
BEGIN:VEVENT
DTSTART;TZID=UTC:20250714T123000
DTEND;TZID=UTC:20250714T140000
DTSTAMP:20260420T121540
CREATED:20250626T154457Z
LAST-MODIFIED:20250626T154602Z
UID:28220-1752496200-1752501600@minchlife.com
SUMMARY:Poetry and Words
DESCRIPTION:We meet on the 2nd Monday of every month at the Cotswold Club from 12.30 – 2.00pm. Bring along your favourite poem\, maybe something you have written yourself\, bring a couple of books to swap\, or just come along for a chat. All welcome.
URL:https://minchlife.com/event/poetry-and-words-19
LOCATION:Cotswold Club\, High Street\, Minchinhampton\, GL6 9BN\, United Kingdom
ATTACH;FMTTYPE=image/jpeg:https://minchlife.com/wp-content/uploads/2023/09/Poetry-and-Words.jpg
END:VEVENT
BEGIN:VEVENT
DTSTART;TZID=UTC:20250714T190000
DTEND;TZID=UTC:20250714T213000
DTSTAMP:20260420T121540
CREATED:20250626T155331Z
LAST-MODIFIED:20250626T155812Z
UID:28231-1752519600-1752528600@minchlife.com
SUMMARY:Minchinhampton Parish Council Finance Committee meeting
DESCRIPTION:Members of the public wishing to join the meeting should email the clerk to confirm details. Email: clerk@minchinhampton-pc.gov.uk The agenda can be found on the Parish Council website before the meeting: https://www.minchinhampton-pc.gov.uk/council-meetings.html
URL:https://minchlife.com/event/minchinhampton-parish-council-finance-committee-meeting-8
LOCATION:The Trap House\, West End\, Minchinhampton\, GL6 9JA\, United Kingdom
ATTACH;FMTTYPE=image/png:https://minchlife.com/wp-content/uploads/2022/01/MPC-LOGO.png
END:VEVENT
END:VCALENDAR