BEGIN:VCALENDAR
VERSION:2.0
PRODID:-//Minch Life - ECPv6.8.3//NONSGML v1.0//EN
CALSCALE:GREGORIAN
METHOD:PUBLISH
X-ORIGINAL-URL:https://minchlife.com
X-WR-CALDESC:Events for Minch Life
REFRESH-INTERVAL;VALUE=DURATION:PT1H
X-Robots-Tag:noindex
X-PUBLISHED-TTL:PT1H
BEGIN:VTIMEZONE
TZID:UTC
BEGIN:STANDARD
TZOFFSETFROM:+0000
TZOFFSETTO:+0000
TZNAME:UTC
DTSTART:20250101T000000
END:STANDARD
END:VTIMEZONE
BEGIN:VEVENT
DTSTART;TZID=UTC:20250701T170000
DTEND;TZID=UTC:20250731T180000
DTSTAMP:20260421T162737
CREATED:20250627T163800Z
LAST-MODIFIED:20250627T163800Z
UID:28325-1751389200-1753984800@minchlife.com
SUMMARY:The Sanctuary Series : Emma Pinchbeck & Juliet Davenport
DESCRIPTION:The Sanctuary Series is a new programme of talks\, sparking conversations that will explore the most pressing issues of our time. Hosted at Brimscombe Mill\, the series brings together visionary thinkers\, change makers\, and creatives to spark dialogue and inspire action on themes of economic justice\, sustainability\, community\, and the arts. \nTwo leading voices in the UK’s energy and climate space join the Sanctuary Series to discuss the real-world challenges of reaching net zero. From policy to the role of innovation\, they’ll explore what it truly takes to create a just and sustainable transition for people and planet. \nCheck the website for more details:  https://thelongtablestroud.com/events
URL:https://minchlife.com/event/the-sanctuary-series-emma-pinchbeck-juliet-davenport
LOCATION:The Long Table\, Brimscombe Mill\, Stroud\, GL5 2SA\, United Kingdom
END:VEVENT
BEGIN:VEVENT
DTSTART;VALUE=DATE:20250705
DTEND;VALUE=DATE:20250706
DTSTAMP:20260421T162737
CREATED:20250423T160244Z
LAST-MODIFIED:20250611T140540Z
UID:27658-1751673600-1751759999@minchlife.com
SUMMARY:CANCELLED:  Nkokoto Link 'Five Valley Voices'
DESCRIPTION:EVENT NOW NOT GOING AHEAD. \n 
URL:https://minchlife.com/event/nkokoto-link-five-valley-voices
LOCATION:Holy Trinity Church\, Minchinhampton\, Holy Trinity Church\, Minchinhampton\, GL6 9BW
END:VEVENT
BEGIN:VEVENT
DTSTART;TZID=UTC:20250705T090000
DTEND;TZID=UTC:20250706T120000
DTSTAMP:20260421T162737
CREATED:20250423T143759Z
LAST-MODIFIED:20250423T143759Z
UID:27609-1751706000-1751803200@minchlife.com
SUMMARY:Charcoal Making in the woods
DESCRIPTION:Immerse yourself in the traditional craft of charcoal burning using a ring kiln in our two-day course set in the heart of our woodland. This hands-on experience will guide you through the entire process\, from start to finish. \nDay 1: \nWe start at 9:00am\, learning how to empty a kiln. Grading and packing the charcoal and ensuring it is ready for market is one of the most important parts of the process. If the product does not look good and ultimately perform well\, sales will be harder to achieve. \nOnce emptied\, we will see how the kiln is prepared for reloading: how to set the base of the kiln before loading with wood\, understanding the importance of airflow and how to seal the kiln correctly. As the evening draws in\, we’ll light the kiln at around 4:00pm. Discover how this exciting process works\, what to watch out for and how to stay safe! \nIn the evening\, enjoy food and drinks round the fire with new friends. If you’re camping overnight\, you may wish to rise at midnight for the chimney swap – a crucial part of the process. \nDay 2: \nAn early start – around 6am to avoid missing the shut down. A late start could mean the kiln has gone too far and the charcoal is now being burnt. You will learn the shutdown process and how to earth up the kiln. Sunday morning is all about coffee\, bacon butties (or whatever your nibble of choice is) watching the woods wake up and keeping a close eye on the smoke from the chimneys. Time for questions and discussions and some more wood prep for the next burn if desired. \nWe usually finish the course around mid- to late morning. \nThis course is a practical\, hands-on experience\, so please bring clothes you don’t mind getting dirty and sturdy boots. Some snacks and drinks are provided\, but bring food for your main meals: we have cooking facilities. You’re welcome to camp overnight for the burn\, or there are comfortable B&Bs nearby – own camping equipment required; great place for hammocks. \nYou will gain a deep understanding of the art and science of charcoal burning. Whether you’re a budding artist\, want to start making your own\, or simply curious about traditional woodland crafts\, this course offers a fascinating insight into the world of charcoal. \nPrice: £125 per person (course only)
URL:https://minchlife.com/event/charcoal-making-in-the-woods
LOCATION:Voltaires Wood\, Minchinhampton\, Stroud\, GL6 9AL\, United Kingdom
ATTACH;FMTTYPE=image/webp:https://minchlife.com/wp-content/uploads/2025/04/Charcoal-Making.webp
END:VEVENT
BEGIN:VEVENT
DTSTART;TZID=UTC:20250705T100000
DTEND;TZID=UTC:20250705T120000
DTSTAMP:20260421T162737
CREATED:20250611T142106Z
LAST-MODIFIED:20250611T142220Z
UID:28110-1751709600-1751716800@minchlife.com
SUMMARY:Coffee Morning
DESCRIPTION:All are welcome. If you require a lift please call 01453 889004
URL:https://minchlife.com/event/coffee-morning-29
LOCATION:Porch Room\, Holy Trinity Church\, Holy Trinity Church\, Minchinhampton\, GL6 9BP
ATTACH;FMTTYPE=image/png:https://minchlife.com/wp-content/uploads/2025/06/Coffee-Mornings-July-August-2025.png
END:VEVENT
BEGIN:VEVENT
DTSTART;TZID=UTC:20250705T100000
DTEND;TZID=UTC:20250705T120000
DTSTAMP:20260421T162737
CREATED:20250627T141358Z
LAST-MODIFIED:20250627T141358Z
UID:28260-1751709600-1751716800@minchlife.com
SUMMARY:Repair Cafe
DESCRIPTION:Repair and reuse one of your broken items.  Learn how you may be able to repair an item yourself. \nRepairs are FREE! \nFor further information contact canminch@gmail.com
URL:https://minchlife.com/event/repair-cafe-5
LOCATION:Minchinhampton Community Library\, School Road\, Minchinhampton\, GL6 9BP\, United Kingdom
ATTACH;FMTTYPE=image/jpeg:https://minchlife.com/wp-content/uploads/2025/03/Repair-Cafe-General-Poster-scaled.jpg
END:VEVENT
BEGIN:VEVENT
DTSTART;TZID=UTC:20250705T120000
DTEND;TZID=UTC:20250705T160000
DTSTAMP:20260421T162737
CREATED:20250530T084529Z
LAST-MODIFIED:20250530T084529Z
UID:28021-1751716800-1751731200@minchlife.com
SUMMARY:Summer Sizzle - in aid of Brimscombe C of E Primary School
DESCRIPTION:Free entry. Fun for all the family.  Music performances\, inflatables\, games\, food and drink stalls and much more.
URL:https://minchlife.com/event/summer-sizzle-in-aid-of-brimscombe-c-of-e-primary-school
LOCATION:Brimscombe\, United Kingdom
ATTACH;FMTTYPE=image/jpeg:https://minchlife.com/wp-content/uploads/2025/05/IMG_0355.jpeg
END:VEVENT
END:VCALENDAR