BEGIN:VCALENDAR
VERSION:2.0
PRODID:-//Minch Life - ECPv6.8.3//NONSGML v1.0//EN
CALSCALE:GREGORIAN
METHOD:PUBLISH
X-WR-CALNAME:Minch Life
X-ORIGINAL-URL:https://minchlife.com
X-WR-CALDESC:Events for Minch Life
REFRESH-INTERVAL;VALUE=DURATION:PT1H
X-Robots-Tag:noindex
X-PUBLISHED-TTL:PT1H
BEGIN:VTIMEZONE
TZID:UTC
BEGIN:STANDARD
TZOFFSETFROM:+0000
TZOFFSETTO:+0000
TZNAME:UTC
DTSTART:20250101T000000
END:STANDARD
END:VTIMEZONE
BEGIN:VEVENT
DTSTART;VALUE=DATE:20250616
DTEND;VALUE=DATE:20250630
DTSTAMP:20260421T123336
CREATED:20250508T121452Z
LAST-MODIFIED:20250518T084538Z
UID:27891-1750032000-1751241599@minchlife.com
SUMMARY:Experience Church
DESCRIPTION:An interactive\, multi-sensory tour of the church focusing on the font\, the lectern\, the prayer corner\, the stained glass windows\, the altar and the door.
URL:https://minchlife.com/event/experience-church
LOCATION:Holy Trinity Church\, Minchinhampton\, Holy Trinity Church\, Minchinhampton\, GL6 9BW
END:VEVENT
BEGIN:VEVENT
DTSTART;TZID=UTC:20250629T103000
DTEND;TZID=UTC:20250629T130000
DTSTAMP:20260421T123336
CREATED:20250113T140041Z
LAST-MODIFIED:20250625T175302Z
UID:25810-1751193000-1751202000@minchlife.com
SUMMARY:Minchinhampton Walking and Wild Life Group
DESCRIPTION:Sue Parker is leading this month’s walk\, along a section of the Stroudwater canal\, coming back along the river Frome. Meet at Bell Lane car park at 10:30 to share lifts\, or at St Michael’s & All Angels church in Millend Lane in Churchend at 11am to start the walk. There aren’t any stiles\, but plenty of waterside sections. \nLunch is booked for 1pm at The Badger in Eastington\, but please let Sue know if you’d like to lunch so she can confirm numbers with the pub su.de.parker@hotmail.co.uk \nHere’s a link to the Sunday lunch menu  https://oldbadgerinn.co.uk/food-menu/ \n  \n  \n  \n  \n  \nWe are an informal group of friends who enjoy walking\, wildlife\, good company and the occasional trip the pub. You are very welcome to join us – but entirely at your own risk!! \nAll walks use public footpaths which may be steep\, rough and slippery. Prepare accordingly.  \nWe generally walk on the last Sunday of each month\, starting at 10.30 and finishing by lunchtime\, unless otherwise specified in the programme. \nIf the weather is very poor\, we will cancel by email by 9.00am on the morning the walk was planned.  \nPlease contact karencolebourn@gmail.com to be added to the circulation list.
URL:https://minchlife.com/event/minchinhampton-walking-and-wild-life-group
LOCATION:Bell Lane Car Park\, Minchinhampton\, United Kingdom
END:VEVENT
BEGIN:VEVENT
DTSTART;TZID=UTC:20250629T194500
DTEND;TZID=UTC:20250629T220000
DTSTAMP:20260421T123336
CREATED:20250425T150135Z
LAST-MODIFIED:20250425T150135Z
UID:27755-1751226300-1751234400@minchlife.com
SUMMARY:Arkie's Quiz
DESCRIPTION:Our Quizmaster Brian L Powell looks forward to your company for another challenging but fun quiz. Members and guests welcome. Tables of 4\, £1.00 per person.
URL:https://minchlife.com/event/arkies-quiz-11
LOCATION:Cotswold Club\, High Street\, Minchinhampton\, GL6 9BN\, United Kingdom
ATTACH;FMTTYPE=image/png:https://minchlife.com/wp-content/uploads/2020/05/Quiz-X3TxwO.tmp_.png
END:VEVENT
END:VCALENDAR