BEGIN:VCALENDAR
VERSION:2.0
PRODID:-//Minch Life - ECPv6.8.3//NONSGML v1.0//EN
CALSCALE:GREGORIAN
METHOD:PUBLISH
X-WR-CALNAME:Minch Life
X-ORIGINAL-URL:https://minchlife.com
X-WR-CALDESC:Events for Minch Life
REFRESH-INTERVAL;VALUE=DURATION:PT1H
X-Robots-Tag:noindex
X-PUBLISHED-TTL:PT1H
BEGIN:VTIMEZONE
TZID:UTC
BEGIN:STANDARD
TZOFFSETFROM:+0000
TZOFFSETTO:+0000
TZNAME:UTC
DTSTART:20250101T000000
END:STANDARD
END:VTIMEZONE
BEGIN:VEVENT
DTSTART;TZID=UTC:20250612T100000
DTEND;TZID=UTC:20250612T120000
DTSTAMP:20260421T144659
CREATED:20250302T182750Z
LAST-MODIFIED:20250302T182750Z
UID:26700-1749722400-1749729600@minchlife.com
SUMMARY:Minchinhampton Probus - Lynn Hilditch “Air Traffic - Woman in a Man’s world”
DESCRIPTION:Minchinhampton Probus meets fortnightly on the second and fourth Thursday in the Porch Room\, Holy Trinity\, Minchinhampton.  Starts at 10am – with coffee and a catch up with other members.  The meeting comprises a brief business meeting for about 15 minutes then usually a guest speaker. Meeting finishes at noon. \nWe are a very friendly bunch of men from all sorts of backgrounds. The only qualification to join that that you are retired.  The subject of each meeting is as varied as we are! \nWe regularly have visits to local industry and other  social gatherings. \nPotential new members are very welcome to attend.  It would be helpful to know if you are coming!  No jacket required. \nPresident – John Flynn. Speaker Secretary Steve Hoskin  and Secretary John Collinson. \nIf interested\, please contact Steve Hoskin 07511 324088
URL:https://minchlife.com/event/minchinhampton-probus-lynn-hilditch-air-traffic-woman-in-a-mans-world
LOCATION:Porch Room\, Holy Trinity Church\, Holy Trinity Church\, Minchinhampton\, GL6 9BP
ATTACH;FMTTYPE=image/jpeg:https://minchlife.com/wp-content/uploads/2023/09/Probus.jpg
END:VEVENT
BEGIN:VEVENT
DTSTART;TZID=UTC:20250612T170000
DTEND;TZID=UTC:20250612T213000
DTSTAMP:20260421T144659
CREATED:20250528T140000Z
LAST-MODIFIED:20250528T140051Z
UID:27975-1749747600-1749763800@minchlife.com
SUMMARY:Sanctuary Series:  Dr Kate Raworth
DESCRIPTION:The Sanctuary Series is a new programme of talks\, sparking conversations that will explore the most pressing issues of our time. \nVisionary economist and author of Doughnut Economics\, is joining us for the fourth event in the series\, to share bold ideas for building a regenerative\, inclusive economy. Don’t miss this chance to reimagine how we live\, work and care for our planet. \nBookings online here:  https://www.brimscombe-mill.org.uk/sanctuaryseries
URL:https://minchlife.com/event/sanctuary-series-dr-kate-raworth
LOCATION:The Long Table\, Brimscombe Mill\, Stroud\, GL5 2SA\, United Kingdom
ATTACH;FMTTYPE=image/jpeg:https://minchlife.com/wp-content/uploads/2025/05/Dr-Kate-Raworth.jpg
END:VEVENT
BEGIN:VEVENT
DTSTART;TZID=UTC:20250612T183000
DTEND;TZID=UTC:20250612T213000
DTSTAMP:20260421T144659
CREATED:20250528T154147Z
LAST-MODIFIED:20250528T154232Z
UID:28011-1749753000-1749763800@minchlife.com
SUMMARY:Exclusive Champagne Dinner at Burleigh Court
DESCRIPTION:Join us for an exclusive evening in partnership with Christopher Piper Wines & Champagne Gremillet\, where every course is a celebration. Indulge in a special five-course tasting menu\, each dish perfectly paired with exquisite champagnes. \nSeats are strictly limited for this one-of-a-kind culinary journey. \nPrice per person: £99\nBookings online here https://burleighcourtcotswolds.co.uk/event/exclusive-champagne-dinner/ \nor telephone 883804
URL:https://minchlife.com/event/exclusive-champagne-dinner-at-burleigh-court
LOCATION:Burleigh Court Hotel\, Burleigh Lane Stroud\, GL5 2PF\, United Kingdom
ATTACH;FMTTYPE=image/jpeg:https://minchlife.com/wp-content/uploads/2025/05/Champagne-Dinner.jpg
END:VEVENT
END:VCALENDAR