BEGIN:VCALENDAR
VERSION:2.0
PRODID:-//Minch Life - ECPv6.8.3//NONSGML v1.0//EN
CALSCALE:GREGORIAN
METHOD:PUBLISH
X-WR-CALNAME:Minch Life
X-ORIGINAL-URL:https://minchlife.com
X-WR-CALDESC:Events for Minch Life
REFRESH-INTERVAL;VALUE=DURATION:PT1H
X-Robots-Tag:noindex
X-PUBLISHED-TTL:PT1H
BEGIN:VTIMEZONE
TZID:UTC
BEGIN:STANDARD
TZOFFSETFROM:+0000
TZOFFSETTO:+0000
TZNAME:UTC
DTSTART:20250101T000000
END:STANDARD
END:VTIMEZONE
BEGIN:VEVENT
DTSTART;TZID=UTC:20250531T100000
DTEND;TZID=UTC:20250531T120000
DTSTAMP:20260423T130342
CREATED:20250326T175154Z
LAST-MODIFIED:20250326T175154Z
UID:26929-1748685600-1748692800@minchlife.com
SUMMARY:Community Litter Pick
DESCRIPTION:
URL:https://minchlife.com/event/community-litter-pick-5
LOCATION:Minchinhampton Community Library\, School Road\, Minchinhampton\, GL6 9BP\, United Kingdom
ATTACH;FMTTYPE=image/jpeg:https://minchlife.com/wp-content/uploads/2025/01/Community-Litter-Pick.jpg
END:VEVENT
BEGIN:VEVENT
DTSTART;TZID=UTC:20250531T100000
DTEND;TZID=UTC:20250531T150000
DTSTAMP:20260423T130342
CREATED:20250531T082959Z
LAST-MODIFIED:20250531T082959Z
UID:28035-1748685600-1748703600@minchlife.com
SUMMARY:Family Fundraiser
DESCRIPTION:See poster for details.
URL:https://minchlife.com/event/family-fundraiser
LOCATION:Market Square\, Minchinhampton\, GL6 9BW\, United Kingdom
ATTACH;FMTTYPE=image/jpeg:https://minchlife.com/wp-content/uploads/2025/05/Family-Fundraiser.jpg
END:VEVENT
END:VCALENDAR