BEGIN:VCALENDAR
VERSION:2.0
PRODID:-//Minch Life - ECPv6.8.3//NONSGML v1.0//EN
CALSCALE:GREGORIAN
METHOD:PUBLISH
X-ORIGINAL-URL:https://minchlife.com
X-WR-CALDESC:Events for Minch Life
REFRESH-INTERVAL;VALUE=DURATION:PT1H
X-Robots-Tag:noindex
X-PUBLISHED-TTL:PT1H
BEGIN:VTIMEZONE
TZID:UTC
BEGIN:STANDARD
TZOFFSETFROM:+0000
TZOFFSETTO:+0000
TZNAME:UTC
DTSTART:20240101T000000
END:STANDARD
END:VTIMEZONE
BEGIN:VEVENT
DTSTART;TZID=UTC:20240127T180000
DTEND;TZID=UTC:20240127T223000
DTSTAMP:20260419T140343
CREATED:20231027T091533Z
LAST-MODIFIED:20240119T141833Z
UID:21268-1706378400-1706394600@minchlife.com
SUMMARY:Promises Auction at Holy Trinity\, Minchinhampton
DESCRIPTION:Holy Trinity Church\, Minchinhampton is busy organising a fun and fabulous Auction of Promises which will be held in the church on Saturday 27th January.  With an option to dine before the auction at 6pm or arrive at 7pm when the auction gets underway\, the choice is yours.  You can bid and get your hands on a range of fantastic lots\, kindly donated to us as promises to be auctioned.  Just a few of the amazing promises: \n\nWoodchester Valley wine tour\nDining out vouchers\nChampagne tea at Calcott Manor\nChurch bells ringing just for you\nA large holiday house in Scotland\nBeauty Treatments\n\nAnd Much more….! Supper tickets are £10 from the Market Stores. 6pm start. Auction 7pm.  For more information please contact mirandajutsum@gmail.com \nWe hope you will join us for this fun event\, raising funds for the restoration of the organ and stained glass windows (6Ps appeal). \n  \nIf you can’t make the event but see an item you wish to bid on\, simply email HTMAuction@outlook.com with your bid. Bids will be taken until midday Friday 26th January. \nIf after the live event you are the highest bidder\, you will be contacted with details of your successful bid\, how to redeem it and how to make payment. \nCopies of the auction items will be at the back of the church from today\, along with bidding sheets and a box in which to place them. \nPlease let Leonora Rozee know at leonora.rozee@gmail.com\, 01453 882562\, or Mandy Jutsum\, mandyjutsum@btinternet.com\, 01453 882477 or 07774 836004
URL:https://minchlife.com/event/auction-of-promises-2
LOCATION:Holy Trinity Church\, Minchinhampton\, Holy Trinity Church\, Minchinhampton\, GL6 9BW
END:VEVENT
BEGIN:VEVENT
DTSTART;TZID=UTC:20240127T193000
DTEND;TZID=UTC:20240127T220000
DTSTAMP:20260419T140343
CREATED:20240101T104814Z
LAST-MODIFIED:20240101T104815Z
UID:21930-1706383800-1706392800@minchlife.com
SUMMARY:Graffiti Classics (Air in G Event)
DESCRIPTION:16 strings\, 8 dancing feet and 4 voices with 1 aim: to make classical music wickedly funny and fantastically exhilarating for everyone. Graffiti Classics burst the elitist boundaries of the traditional string quartet with their hilarious all-singing\, all-dancing musical comedy show. It’s a classical concert\, a gypsy-folk romp\, an opera\, a stand-up comedy set and a brilliant dance show all rolled into one! There really is something for everyone and Graffiti Classics never fail to get audiences laughing\, clapping and singing along. Kids and adults alike love the uplifting and virtuosic variety of musical styles\, all tied together with cheeky audience interaction.\nGraffiti Classics have a long and distinguished history of presenting workshops for schools\, includung their ‘Playground Proms’ – arena-style workshop performances to inspire\, educate and amuse. \nTickets £15.00 available online:  https://www.ticketsource.co.uk/whats-on/gloucestershire/box-village-hall/graffiti-classics/e-vmxgre
URL:https://minchlife.com/event/graffiti-classics-air-in-g-event
LOCATION:Box Village Hall\, Box\, Stroud\, GL6 9HE\, United Kingdom
ATTACH;FMTTYPE=image/jpeg:https://minchlife.com/wp-content/uploads/2022/09/Graffiti-Classics.jpg
END:VEVENT
END:VCALENDAR