BEGIN:VCALENDAR
VERSION:2.0
PRODID:-//Minch Life - ECPv6.8.3//NONSGML v1.0//EN
CALSCALE:GREGORIAN
METHOD:PUBLISH
X-ORIGINAL-URL:https://minchlife.com
X-WR-CALDESC:Events for Minch Life
REFRESH-INTERVAL;VALUE=DURATION:PT1H
X-Robots-Tag:noindex
X-PUBLISHED-TTL:PT1H
BEGIN:VTIMEZONE
TZID:UTC
BEGIN:STANDARD
TZOFFSETFROM:+0000
TZOFFSETTO:+0000
TZNAME:UTC
DTSTART:20200101T000000
END:STANDARD
END:VTIMEZONE
BEGIN:VEVENT
DTSTART;TZID=UTC:20200627T090000
DTEND;TZID=UTC:20200627T120000
DTSTAMP:20260421T112400
CREATED:20200622T162652Z
LAST-MODIFIED:20200626T133407Z
UID:10699-1593248400-1593259200@minchlife.com
SUMMARY:Book and Plant sale in the Market House
DESCRIPTION:Book and Plant Sale\nRaising funds for the Market House. \n9.00 – 12
URL:https://minchlife.com/event/book-and-plant-sale-in-the-market-house
ATTACH;FMTTYPE=image/jpeg:https://minchlife.com/wp-content/uploads/2020/06/Books-and-Plants-scaled.jpg
END:VEVENT
END:VCALENDAR